BEGIN:VCALENDAR
VERSION:2.0
PRODID:-//ChamberMaster//Event Calendar 2.0//EN
METHOD:PUBLISH
X-PUBLISHED-TTL:P3D
REFRESH-INTERVAL:P3D
CALSCALE:GREGORIAN
BEGIN:VEVENT
DTSTART:20161116T000000Z
DTEND:20161116T010000Z
X-MICROSOFT-CDO-ALLDAYEVENT:FALSE
SUMMARY:Grandparent and Relative Caregiver Circle
DESCRIPTION:Those who care for their grandchildren or relative's children may experience a great deal of stress. The purpose of this circle is to give grandparents and relative caregivers a safe place to express feelings\, frustrations\, and to seek comfort and guidance in others who are also caregivers. The circle will meet on the third Tuesday of each month. The Aging & Disability Resource Center is sponsoring this circle.
X-ALT-DESC;FMTTYPE=text/html:Those who care for their grandchildren or relative&rsquo\;s children may experience a great deal of stress. The purpose of this circle is to give grandparents and relative caregivers a safe place to express feelings\, frustrations\, and to seek comfort and guidance in others who are also caregivers. The circle will meet on the third Tuesday of each month. The Aging &amp\; Disability Resource Center is sponsoring this circle.
LOCATION:Sauk Prairie Community Center 703 Monroe Street
UID:e.1184.9402
SEQUENCE:3
DTSTAMP:20260425T161124Z
URL:http://members.saukprairie.com/events/details/grandparent-and-relative-caregiver-circle-9402
END:VEVENT

END:VCALENDAR
