BEGIN:VCALENDAR
VERSION:2.0
PRODID:-//ChamberMaster//Event Calendar 2.0//EN
METHOD:PUBLISH
X-PUBLISHED-TTL:P3D
REFRESH-INTERVAL:P3D
CALSCALE:GREGORIAN
BEGIN:VEVENT
DTSTART:20170222T000000Z
DTEND:20170222T010000Z
X-MICROSOFT-CDO-ALLDAYEVENT:FALSE
SUMMARY:Grandparent & Relative Caregiver Circle
DESCRIPTION:Those who care for their grandchildren or relative's children may experience a great deal of stress. The purpose of this circle is to give grandparents and relative caregivers a safe place to express feelings\, frustrations\, and to seek comfort and guidance in others who are also caregivers. The circle will meet on the third Tuesday of each month. The Aging & Disability Resource Center is sponsoring this circle.
X-ALT-DESC;FMTTYPE=text/html:Those who care for their grandchildren or relative&rsquo\;s children may experience a great deal of stress. The purpose of this circle is to give grandparents and relative caregivers a safe place to express feelings\, frustrations\, and to seek comfort and guidance in others who are also caregivers. The circle will meet on the third Tuesday of each month. The Aging &amp\; Disability Resource Center is sponsoring this circle.
LOCATION:Sauk Prairie Community Center 730 Monroe Street
UID:e.1184.9950
SEQUENCE:3
DTSTAMP:20260425T110225Z
URL:http://members.saukprairie.com/events/details/grandparent-relative-caregiver-circle-9950
END:VEVENT

END:VCALENDAR
