BEGIN:VCALENDAR
VERSION:2.0
PRODID:-//ChamberMaster//Event Calendar 2.0//EN
METHOD:PUBLISH
X-PUBLISHED-TTL:P3D
REFRESH-INTERVAL:P3D
CALSCALE:GREGORIAN
BEGIN:VEVENT
DTSTART;VALUE=DATE:20181026
DTEND;VALUE=DATE:20181027
TRANSP:TRANSPARENT
X-MICROSOFT-CDO-ALLDAYEVENT:TRUE
SUMMARY:Great Sauk State Trail Phase 2 Ribbon Cutting
DESCRIPTION:You are INVITED to the Great Sauk State Trail Phase II Ribbon Cutting\n\n\n\nFriday\, October 26th at 2pm\n\n\n\nRSVP: to Ed White - ewhite@scdc.com or 355-2084\n\n\n\nSAUK PRAIRIE RECREATION AREA\n\n*Reception immediately following at:\n\nMuseum of Badger Army Ammunition
X-ALT-DESC;FMTTYPE=text/html:<strong>You are INVITED to the Great Sauk State Trail Phase II Ribbon Cutting</strong><br />\n<br />\nFriday\, October 26th at 2pm<br />\n<br />\nRSVP: to Ed White - ewhite@scdc.com or 355-2084<br />\n<br />\nSAUK PRAIRIE RECREATION AREA<br />\n*Reception immediately following at:<br />\nMuseum of Badger Army Ammunition
LOCATION:SAUK PRAIRIE RECREATION AREA
UID:e.1184.21351
SEQUENCE:3
DTSTAMP:20260424T033921Z
URL:http://members.saukprairie.com/events/details/great-sauk-state-trail-phase-2-ribbon-cutting-21351
END:VEVENT

END:VCALENDAR
