BEGIN:VCALENDAR
VERSION:2.0
PRODID:-//ChamberMaster//Event Calendar 2.0//EN
METHOD:PUBLISH
X-PUBLISHED-TTL:P3D
REFRESH-INTERVAL:P3D
CALSCALE:GREGORIAN
BEGIN:VEVENT
DTSTART:20171019T190000Z
DTEND:20171019T210000Z
X-MICROSOFT-CDO-ALLDAYEVENT:FALSE
SUMMARY:Great Sauk State Trail Ribbon Cutting Event
DESCRIPTION:RIBBON CUTTING: Thursday\, October 19th at 2:00 below the Blue Spoon. A luncheon for key donors and municipal partners will be sponsored by our Friends group prior to the ribbon cutting.\n\n\n\nPlease RSVP for the Ribbon Cutting to spacc@saukprairie.com
X-ALT-DESC;FMTTYPE=text/html:RIBBON CUTTING: Thursday\, October 19th at 2:00 below the Blue Spoon. A luncheon for key donors and municipal partners will be sponsored by our Friends group prior to the ribbon cutting.<br />\n<br />\nPlease RSVP for the&nbsp\;Ribbon Cutting to&nbsp\;spacc@saukprairie.com
LOCATION:
UID:e.1184.13961
SEQUENCE:3
DTSTAMP:20260424T222236Z
URL:http://members.saukprairie.com/events/details/great-sauk-state-trail-ribbon-cutting-event-13961
END:VEVENT

END:VCALENDAR
