BEGIN:VCALENDAR
VERSION:2.0
PRODID:-//ChamberMaster//Event Calendar 2.0//EN
METHOD:PUBLISH
X-PUBLISHED-TTL:P3D
REFRESH-INTERVAL:P3D
CALSCALE:GREGORIAN
BEGIN:VEVENT
DTSTART:20170717T180000Z
DTEND:20170717T190000Z
X-MICROSOFT-CDO-ALLDAYEVENT:FALSE
SUMMARY:Great Scott Magic
DESCRIPTION:This show will combine the fun of a magic show with a great message about being a better person - which helps to build a better world!  Magician Scott will present a few "tricks" to building trust\, respect and being more responsible (like getting books back to the library on time). This event is fun for children of all ages. Contact Beth at 643-8318 with questions.
X-ALT-DESC;FMTTYPE=text/html:This show will combine the fun of a magic show with a great message about being a better person - which helps to build a better world!&nbsp\; Magician Scott will present a few &quot\;tricks&quot\; to building trust\, respect and being more responsible (like getting books back to the library on time). This event is fun for children of all ages. Contact Beth at 643-8318 with questions.
LOCATION:Ruth Culver Community Library 540 Water Street Prairie du Sac
UID:e.1184.11675
SEQUENCE:3
DTSTAMP:20260425T031745Z
URL:http://members.saukprairie.com/events/details/great-scott-magic-11675
END:VEVENT

END:VCALENDAR
