BEGIN:VCALENDAR
VERSION:2.0
PRODID:-//ChamberMaster//Event Calendar 2.0//EN
METHOD:PUBLISH
X-PUBLISHED-TTL:P3D
REFRESH-INTERVAL:P3D
CALSCALE:GREGORIAN
BEGIN:VEVENT
DTSTART;VALUE=DATE:20230513
DTEND;VALUE=DATE:20230514
TRANSP:TRANSPARENT
X-MICROSOFT-CDO-ALLDAYEVENT:TRUE
SUMMARY:Green Bay Blizzard Football Trip!
DESCRIPTION:Community Event\n\nSaturday\, May 13 - Bus Leaves at 11:15am From the Eagle Plaza Mall\n\n\n\nDetails\n\nGreen Bay Blizzards vs San Diego Strike Force\n\nKick Off 3:05pm Central - Steaming LIVE ON YOUTUBE IFL SPORTS NETWORK\n\nGreenbayblizzard.com\n\n\n\nGame Day is Saturday\, May 13.  Bus leaves at 11:15am from Green RX  at the Eagle Plaza Shopping Center - 815 Phillips Blvd Sauk City.  The bus will bring you back to the Eagle Plaza Shopping Center.  Plan on arriving back between 8-9pm.\n\n\n\nParking\n\nYou can leave your vehicle for the day at the shopping center.  We ask that you park and fill in the spots furthest away from the Shopping Center ( Spots closest to Hwy 12)\n\nWe ask that you arrive no later than 10:50 am\, this will allow us to check you in so we know who is on the bus.  We also ask that minors are accompanied by an adult.\n\n\n\nFood and beverages (including alcohol) are allowed on the bus.  We do however ask that you please clean up after yourself.  Small coolers are allowed\, but are not permitted to be on the seats or in the aisle.  NO GLASS CONTAINERS ARE PERMITTED.  NO SMOKING/VAPING IS PERMITTED.\n\nThe Green Bay Blizzards have given us 200 tickets for the game\, but we are only able to have 72 people on the bus.  The bus will be a Badger Coach bus\, which will have WIFI.  The tickets are a first come basis.  The charter is a first come basis\, but if it fills\, we will definitely look into a second.\n\n\n\nWe do encourage driving to the event as well.  It is around a 2.2 hour drive.  Parking is right next to the Resch Center's main entrance and runs 10.00.  But be sure to ask about the charter if you would prefer.\n\n\n\nAll tickets include a snack voucher for a hot dog and soda at the game.  There are normal concessions at the stadium as well.  No carry-ins are allowed into the venue.  \n\nTickets will be available for pick up in April - We will notify you when they are ready for pick up and when you can grab them.   \n\n\n\nClick here for the contact form.  We ask that you fill it out\, and in the comment section let us know if you need just tickets\, or tickets and a spot on the charter bus.  Also please let us know how many tickets and spots on the charter you will need.\n\n\n\nA member of our staff will reach out to you to confirm your saved tickets and (or) Charter spots for the trip.\n\n\n\nOnce again\, GreenRX  would like to thank the Green Bay Blizzards for teaming up with us this season\, and the Sauk Area Chamber of Commerce for their support in helping us piece together this community trip.\n\n\n\nTHE GREEN BAY BLIZZARD Professional Football team is Expecting the Sauk Community.  They are ready for us\, have loaded space for us\, and are welcoming us into the Blizzard Community... We are pushing to make this a growing\, yearly trip.
X-ALT-DESC;FMTTYPE=text/html:<p><strong>Community Event</strong><br />\nSaturday\, May 13 - Bus Leaves at 11:15am From the Eagle Plaza Mall<br />\n<br />\n<strong>Details</strong><br />\nGreen Bay Blizzards vs San Diego Strike Force</p>\n\n<p>Kick Off 3:05pm Central - Steaming LIVE ON YOUTUBE IFL SPORTS NETWORK<br />\n<a href="https://greenbayblizzard.com/" target="_blank" title="Green Bay Blizzard Foot Ball Trip">Greenbayblizzard.com</a><br />\n<br />\nGame Day is Saturday\, May 13.&nbsp\; Bus leaves at 11:15am from Green RX&trade\; at the Eagle Plaza Shopping Center - 815 Phillips Blvd Sauk City.&nbsp\; The bus will bring you back to the Eagle Plaza Shopping Center.&nbsp\; Plan on arriving back between 8-9pm.<br />\n<br />\n<strong>Parking</strong><br />\nYou can leave your vehicle for the day at the shopping center.&nbsp\; We ask that you park and fill in the spots furthest away from the Shopping Center ( Spots closest to Hwy 12)</p>\n\n<p>We ask that you arrive no later than 10:50 am\, this will allow us to check you in so we know who is on the bus.&nbsp\; We also ask that minors are accompanied by an adult.<br />\n<br />\n<strong>Food and beverages</strong> (including alcohol) are allowed on the bus.&nbsp\; We do however ask that you please clean up after yourself.&nbsp\; Small coolers are allowed\, but are not permitted to be on the seats or in the aisle.&nbsp\; NO GLASS CONTAINERS ARE PERMITTED.&nbsp\; NO SMOKING/VAPING IS PERMITTED.</p>\n\n<p>The Green Bay Blizzards have given us <strong>200 tickets</strong> for the game\, but we are only able to have<strong> 72 people</strong> on the bus.&nbsp\; The bus will be a Badger Coach bus\, which will have WIFI.&nbsp\; The tickets are a first come basis.&nbsp\; The charter is a first come basis\, but if it fills\, we will definitely look into a second.<br />\n<br />\nWe do encourage driving to the event as well.&nbsp\; It is around a 2.2 hour drive.&nbsp\; Parking is right next to the Resch Center&#39\;s main entrance and runs 10.00.&nbsp\; But be sure to ask about the charter if you would prefer.<br />\n<br />\nAll tickets include a snack voucher for a hot dog and soda at the game.&nbsp\; There are normal concessions at the stadium as well.&nbsp\; No carry-ins are allowed into the venue.&nbsp\;&nbsp\;</p>\n\n<p>Tickets will be available for pick up in April - We will notify you when they are ready for pick up and when you can grab them.&nbsp\; &nbsp\;<br />\n<br />\n<span style="font-size:22px\;"><strong><a href="https://greenrxsaukcity.com/green-bay-blizzard-football-trip/">Click here</a></strong></span> for the contact form.&nbsp\; We ask that you fill it out\, and in the comment section let us know if you need just tickets\, or tickets and a spot on the charter bus.&nbsp\; Also please let us know how many tickets and spots on the charter you will need.<br />\n<br />\nA member of our staff will reach out to you to confirm your saved tickets and (or) Charter spots for the trip.<br />\n<br />\nOnce again\, <strong>GreenRX&trade\;</strong> would like to thank the Green Bay Blizzards for teaming up with us this season\, and the Sauk Area Chamber of Commerce for their support in helping us piece together this community trip.<br />\n<br />\n<strong>THE GREEN BAY BLIZZARD </strong>Professional Football team is Expecting the Sauk Community.&nbsp\; They are ready for us\, have loaded space for us\, and are welcoming us into the Blizzard Community... We are pushing to make this a growing\, yearly trip.</p>\n
LOCATION:
UID:e.1184.30707
SEQUENCE:3
DTSTAMP:20260420T145002Z
URL:http://members.saukprairie.com/events/details/green-bay-blizzard-football-trip-30707
END:VEVENT

END:VCALENDAR
