BEGIN:VCALENDAR
VERSION:2.0
PRODID:-//ChamberMaster//Event Calendar 2.0//EN
METHOD:PUBLISH
X-PUBLISHED-TTL:P3D
REFRESH-INTERVAL:P3D
CALSCALE:GREGORIAN
BEGIN:VEVENT
DTSTART:20170710T230000Z
DTEND:20170711T010000Z
X-MICROSOFT-CDO-ALLDAYEVENT:FALSE
SUMMARY:Green Fire Documentary
DESCRIPTION:The library is proud to be hosting a screening of this great documentary on the efforts of local conservationist Aldo Leopold. There will be a raffle to win tour passes to his foundation outside of Baraboo and free popcorn for all attendees.\n\n\nThe first full-length documentary film ever made about legendary conservation thinker Aldo Leopold\, Green Fireexplores Leopold's extraordinary career and his enduring influence   tracing how he shaped the modern conservation movement and continues to inspire projects all over the country that connect people and the land.\n\nAwards garnered by the film include an Emmy Award\, Best Historical Documentary\, Chicago/Midwest Chapter\, 2012\; a Telly Award\, 2011\; and a CINE Golden Eagle Award.\n\n\n	Description retrieved from the Aldo Leopold Foundation website: https://www.aldoleopold.org/teach-learn/green-fire-film/
X-ALT-DESC;FMTTYPE=text/html:<p>The library is proud to be hosting a screening of this great documentary on the efforts of local conservationist Aldo Leopold. There will be a raffle to win tour passes to his foundation outside of Baraboo and free popcorn for all attendees.</p>\n\n<hr />\n<p>The first full-length documentary film ever made about legendary conservation thinker&nbsp\;<a href="http://www.aldoleopold.org/about/aldo-leopold/" style="margin: 0px\; padding: 0px\; border: 0px\; font-style: inherit\; font-variant: inherit\; font-weight: bold\; font-stretch: inherit\; font-size: inherit\; line-height: inherit\; font-family: inherit\; vertical-align: baseline\; color: rgb(153\, 51\, 0)\; outline: 0px\; text-decoration-line: none\;">Aldo Leopold</a>\,&nbsp\;<em>Green </em><em>Fire</em>explores Leopold&rsquo\;s extraordinary career and his enduring influence &ndash\; tracing how he shaped the modern conservation movement and continues to inspire projects all over the country that connect people and the land.</p>\n\n<p>Awards garnered by the film include an Emmy Award\, Best Historical Documentary\, Chicago/Midwest Chapter\, 2012\; a Telly Award\, 2011\; and a CINE Golden Eagle Award.</p>\n\n<ul>\n	<li>Description retrieved from the Aldo Leopold Foundation website: https://www.aldoleopold.org/teach-learn/green-fire-film/</li>\n</ul>\n
LOCATION:515 Water Street Sauk City\, WI 53583 (608) 643-8346
UID:e.1184.11830
SEQUENCE:3
DTSTAMP:20260425T031208Z
URL:http://members.saukprairie.com/events/details/green-fire-documentary-07-10-2017-11830
END:VEVENT

END:VCALENDAR
