BEGIN:VCALENDAR
VERSION:2.0
PRODID:-//ChamberMaster//Event Calendar 2.0//EN
METHOD:PUBLISH
X-PUBLISHED-TTL:P3D
REFRESH-INTERVAL:P3D
CALSCALE:GREGORIAN
BEGIN:VEVENT
DTSTART:20241114T000000Z
DTEND:20241114T030000Z
X-MICROSOFT-CDO-ALLDAYEVENT:FALSE
SUMMARY:Greener Pastures - A Farmer Veteran Coalition Event
DESCRIPTION:Join us in Leola Hall at the River Arts Center\, Prairie du Sac\, Wis.\, on Wednesday November 13\, for a screening of the documentary "Greener Pastures". \n\nDoors open at 6\, and we will have a welcome program at 6:30pm and the screening starts at 7pm. \n\nSpecial guest Jeff Ditzenberger\, documentary subject and founder of the organization TUGS - Talking\, Understanding\, Growing and Supporting\, will be joining us to talk briefly about his experience. \n\n \n\nThe documentary Greener Pastures is an urgent and intimate look at American farming\, told through the stories of farmers at the intersection of mental health\, climate change and industrialization.\n\n \n\nThe subject matter is serious\, and may not be suitable for younger audiences.  \n\n \n\nThis event is free and open to the public - veterans and non-veteran\, farmers and non-farmers.
X-ALT-DESC;FMTTYPE=text/html:<h4>Join us in Leola Hall at the River Arts Center\, Prairie du Sac\, Wis.\, on Wednesday November 13\, for a screening of the documentary &quot\;Greener Pastures&quot\;.&nbsp\;</h4>\n\n<h4>Doors open at 6\, and we will have a welcome program at 6:30pm and the screening starts at 7pm.&nbsp\;</h4>\n\n<h4>Special guest Jeff Ditzenberger\, documentary subject and founder of the organization TUGS - Talking\, Understanding\, Growing and Supporting\, will be joining us to talk briefly about his experience.&nbsp\;</h4>\n\n<h4>&nbsp\;</h4>\n\n<h4><span style="font-weight:normal\;"><span style="color:black\;"><span style="font-family:arial\,sans-serif\;"><span style="font-kerning:none\;">The documentary&nbsp\;</span></span></span></span><em><span style="color:black\;"><span style="font-family:arial\,sans-serif\;"><span style="font-kerning:none\;">Greener Pastures</span></span></span></em><span style="font-weight:normal\;"><span style="color:black\;"><span style="font-family:arial\,sans-serif\;"><span style="font-kerning:none\;">&nbsp\;is an urgent and intimate look at American farming\, told through the stories of farmers at the intersection of mental health\, climate change and industrialization.</span></span></span></span></h4>\n\n<h4>&nbsp\;</h4>\n\n<h4><span style="font-weight:normal\;"><span style="color:#222222\;"><span style="font-family:arial\,sans-serif\;">The subject matter is serious\, and may not be suitable for younger audiences.&nbsp\;&nbsp\;</span></span></span></h4>\n\n<h4>&nbsp\;</h4>\n\n<h4><span style="font-weight:normal\;"><span style="color:#222222\;"><span style="font-family:arial\,sans-serif\;">This event is free and open to the public - veterans and non-veteran\, farmers and non-farmers.&nbsp\;</span></span></span></h4>\n
LOCATION:Leola Hall @ River Arts Center
UID:e.1184.33480
SEQUENCE:3
DTSTAMP:20260419T130908Z
URL:http://members.saukprairie.com/events/details/greener-pastures-a-farmer-veteran-coalition-event-33480
END:VEVENT

END:VCALENDAR
