BEGIN:VCALENDAR
VERSION:2.0
PRODID:-//ChamberMaster//Event Calendar 2.0//EN
METHOD:PUBLISH
X-PUBLISHED-TTL:P3D
REFRESH-INTERVAL:P3D
CALSCALE:GREGORIAN
BEGIN:VEVENT
DTSTART:20181204T003000Z
DTEND:20181204T013000Z
X-MICROSOFT-CDO-ALLDAYEVENT:FALSE
SUMMARY:GRIEF & LOSS 101 presented by Agrace
DESCRIPTION:As the holidays approach\, learn how to find comfort for yourself and others who are grieving.\n\nWhen someone we love dies\, we are often unprepared for the impact of grief. We may not know how to help ourselves or others cope and move forward while experiencing grief.\n\nPlease join us to learn about: \n\n  The grief process and common reactions to grief.\n\n  Practical steps for comforting those who are grieving.\n\n  The challenge of getting through the holidays while grieving a loved one.\n\n\n\nPresenter: Ch ri Milton \n\nCh ri Milton has many years of experience supporting grieving people. Her presentation style is casual and she gives her audience time to ask questions.
X-ALT-DESC;FMTTYPE=text/html:<p><strong>As the holidays approach\, learn how to find comfort for yourself and others who are grieving.</strong></p>\n\n<p>When someone we love dies\, we are often unprepared for the impact of grief. We may not know how to help ourselves&mdash\;or others&mdash\;cope and move forward while experiencing grief.</p>\n\n<p><strong>Please join us to learn about: </strong></p>\n\n<p>&bull\; The grief process and common reactions to grief.</p>\n\n<p>&bull\; Practical steps for comforting those who are grieving.</p>\n\n<p>&bull\; The challenge of getting through the holidays while grieving a loved one.</p>\n\n<p><br />\n<strong>Presenter: Ch&eacute\;ri Milton </strong><br />\nCh&eacute\;ri Milton has many years of experience supporting grieving people. Her presentation style is casual and she gives her audience time to ask questions.</p>\n
LOCATION:Baraboo Area Visitor Center 600 W. Chestnut St. Baraboo
UID:e.1184.21476
SEQUENCE:3
DTSTAMP:20260424T003751Z
URL:http://members.saukprairie.com/events/details/grief-loss-101-presented-by-agace-21476
END:VEVENT

END:VCALENDAR
