BEGIN:VCALENDAR
VERSION:2.0
PRODID:-//ChamberMaster//Event Calendar 2.0//EN
METHOD:PUBLISH
X-PUBLISHED-TTL:P3D
REFRESH-INTERVAL:P3D
CALSCALE:GREGORIAN
BEGIN:VEVENT
DTSTART:20190320T000000Z
DTEND:20190320T010000Z
X-MICROSOFT-CDO-ALLDAYEVENT:FALSE
SUMMARY:Group Meditation
DESCRIPTION:Joyful Path is happy to host a meditation group in the tradition of Thich Nhat Hanh at Free Congregation of Sauk City. Experienced community members\, including Joyful Path volunteers\, rotate responsibilities in leading the sessions. This group meets on the First and Third Tuesdays. Sessions will include guided seated meditation\, walking meditation\, a short talk\, and recitation of the 5 Mindfulness Trainings on first Tuesdays.
X-ALT-DESC;FMTTYPE=text/html:Joyful Path is happy to host a meditation group in the tradition of Thich Nhat Hanh at Free Congregation of Sauk City. Experienced community members\, including Joyful Path volunteers\, rotate responsibilities in leading the sessions. This group meets on the First and Third Tuesdays. Sessions will include guided seated meditation\, walking meditation\, a short talk\, and recitation of the 5 Mindfulness Trainings on first Tuesdays.
LOCATION:Free Congregation of Sauk County 307 Polk St Sauk City
UID:e.1184.22089
SEQUENCE:3
DTSTAMP:20260423T212834Z
URL:http://members.saukprairie.com/events/details/group-meditation-22089
END:VEVENT

END:VCALENDAR
