BEGIN:VCALENDAR
VERSION:2.0
PRODID:-//ChamberMaster//Event Calendar 2.0//EN
METHOD:PUBLISH
X-PUBLISHED-TTL:P3D
REFRESH-INTERVAL:P3D
CALSCALE:GREGORIAN
BEGIN:VEVENT
DTSTART:20200506T183000Z
DTEND:20200506T193000Z
X-MICROSOFT-CDO-ALLDAYEVENT:FALSE
SUMMARY:Growing Your Business Using Social Media
DESCRIPTION:Growing Your Business using Social Media\, Engaging Customers and Community from a Distance presented by Lauren Olson w/Bank of Prairie du Sac and MaCall Tourdot w/Sauk Prairie Area Chamber of Commerce.
X-ALT-DESC;FMTTYPE=text/html:<strong><span style="font-family:calibri\,sans-serif\;"><span style="font-size:11.0pt\;">Growing Your Business using Social Media\, Engaging Customers and Community from a Distance presented by Lauren Olson w/Bank of Prairie du Sac and MaCall Tourdot w/Sauk Prairie Area Chamber of Commerce.</span></span>&nbsp\; &nbsp\; &nbsp\; &nbsp\; &nbsp\; &nbsp\; &nbsp\; &nbsp\; &nbsp\; &nbsp\; &nbsp\; &nbsp\; &nbsp\; &nbsp\; &nbsp\; &nbsp\;&nbsp\;</strong>
LOCATION:Meeting ID meet.google.com/dua-fsxp-rrk Phone Numbers ( US ) +1 470-705-3479 PIN: 614 591 798#
UID:e.1184.23704
SEQUENCE:3
DTSTAMP:20260423T014217Z
URL:http://members.saukprairie.com/events/details/growing-your-business-using-social-media-23704
END:VEVENT

END:VCALENDAR
