BEGIN:VCALENDAR
VERSION:2.0
PRODID:-//ChamberMaster//Event Calendar 2.0//EN
METHOD:PUBLISH
X-PUBLISHED-TTL:P3D
REFRESH-INTERVAL:P3D
CALSCALE:GREGORIAN
BEGIN:VEVENT
DTSTART:20181104T000000Z
DTEND:20181104T033000Z
X-MICROSOFT-CDO-ALLDAYEVENT:FALSE
SUMMARY:GSPIE 9th Annual Silent Auction & Gala
DESCRIPTION:Tickets: $5 each (free ticket to Raffle Wheel with admission)\n\nAvailable at: Grand Avenue & Bridges Elementary Schools and at the Door\n\n\n\nBid to win some of  these fabulous items:\n\n	Themed baskets prepared by classrooms 4K thru 5th grade\n	Groceries for a week\n	Signed Green Bay Packer football\n	Hot lunch & milk break for a year\n	Fire Truck Rides\n	6-month membership to ZeFit\n	2 Night Weekend stay at Merry Mac's\n	Tickets to the Milwaukee Admiral's\n	Estate planning Gift Certificate from Geier\, Homar & Roy\n	Gift Cards & Certificates\n	and much more!!!
X-ALT-DESC;FMTTYPE=text/html:Tickets: $5 each (free ticket to Raffle Wheel with admission)<br />\nAvailable at: Grand Avenue &amp\; Bridges Elementary Schools and at the Door<br />\n<br />\nBid to win some of&nbsp\; these fabulous items:\n<ul>\n	<li>Themed baskets prepared by classrooms 4K thru 5th grade</li>\n	<li>Groceries for a week</li>\n	<li>Signed Green Bay Packer football</li>\n	<li>Hot lunch &amp\; milk break for a year</li>\n	<li>Fire Truck Rides</li>\n	<li>6-month membership to ZeFit</li>\n	<li>2 Night Weekend stay at Merry Mac&#39\;s</li>\n	<li>Tickets to the Milwaukee Admiral&#39\;s</li>\n	<li>Estate planning Gift Certificate from Geier\, Homar &amp\; Roy</li>\n	<li>Gift Cards &amp\; Certificates</li>\n	<li>and much more!!!</li>\n</ul>\n
LOCATION:Dorf Haus
UID:e.1184.21422
SEQUENCE:3
DTSTAMP:20260424T021956Z
URL:http://members.saukprairie.com/events/details/gspie-9th-annual-silent-auction-gala-21422
END:VEVENT

END:VCALENDAR
