BEGIN:VCALENDAR
VERSION:2.0
PRODID:-//ChamberMaster//Event Calendar 2.0//EN
METHOD:PUBLISH
X-PUBLISHED-TTL:P3D
REFRESH-INTERVAL:P3D
CALSCALE:GREGORIAN
BEGIN:VEVENT
DTSTART:20180216T020000Z
DTEND:20180216T040000Z
X-MICROSOFT-CDO-ALLDAYEVENT:FALSE
SUMMARY:Guitfiddlers at Vintage Brewing Co. Sauk Prairie
DESCRIPTION:We play blues\, Cajun\, country\, ragtime\, pickin or slidin\, it doesn't matter\, as long as it's good ole American music! There's new magic in those old tunes!
X-ALT-DESC;FMTTYPE=text/html:<span style="color: rgb(75\, 79\, 86)\; font-family: Helvetica\, Arial\, sans-serif\; font-size: 14px\;">We play blues\, Cajun\, country\, ragtime\, pickin or slidin\, it doesn&rsquo\;t matter\, as long as it&rsquo\;s good ole American music! There&rsquo\;s new magic in those old tunes!</span>
LOCATION:Vintage Brewing Co. Sauk Prairie 600 Water Street Sauk City\, WI 53583
UID:e.1184.14672
SEQUENCE:3
DTSTAMP:20260424T162108Z
URL:http://members.saukprairie.com/events/details/guitfiddlers-at-vintage-brewing-co-sauk-prairie-14672
END:VEVENT

END:VCALENDAR
