BEGIN:VCALENDAR
VERSION:2.0
PRODID:-//ChamberMaster//Event Calendar 2.0//EN
METHOD:PUBLISH
X-PUBLISHED-TTL:P3D
REFRESH-INTERVAL:P3D
CALSCALE:GREGORIAN
BEGIN:VEVENT
DTSTART:20180907T230000Z
DTEND:20180908T040000Z
X-MICROSOFT-CDO-ALLDAYEVENT:FALSE
SUMMARY:Gulf Shrimp Blues Birthday Bash!
DESCRIPTION:The Birthday Boy Cody Wood will be flying in day fresh caught Gulf Shrimp for a traditional Cajun Shrimp Boil to share. Live music from one of our very favorite local Blues Band's Aaron Williams and the Hoodoo! Cold adult beverages will be flowing. Hope to see you all!
X-ALT-DESC;FMTTYPE=text/html:<div class="_63eu" style="box-sizing: border-box\; font-size: 14px\; max-height: 260px\; overflow: hidden\; padding: 12px\; word-wrap: break-word\; font-family: Helvetica\, Arial\, sans-serif\; color: rgb(29\, 33\, 41)\;">\n<div class="_63ew" data-testid="event-permalink-details" style="font-family: inherit\;"><span style="color: rgb(29\, 33\, 41)\; font-family: Helvetica\, Arial\, sans-serif\; font-size: 14px\;">The Birthday Boy Cody Wood will be flying in day fresh caught Gulf Shrimp for a traditional Cajun Shrimp Boil to share. Live music from one of our very favorite local Blues Band&rsquo\;s Aaron Williams and the Hoodoo! Cold adult beverages will be flowing. Hope to see you all!</span></div>\n\n<div>&nbsp\;</div>\n</div>\n
LOCATION:Wood BBQ 739 Phillips Blvd.\, Sauk City
UID:e.1184.20523
SEQUENCE:3
DTSTAMP:20260424T050942Z
URL:http://members.saukprairie.com/events/details/gulf-shrimp-blues-birthday-bash-20523
END:VEVENT

END:VCALENDAR
