BEGIN:VCALENDAR
VERSION:2.0
PRODID:-//ChamberMaster//Event Calendar 2.0//EN
METHOD:PUBLISH
X-PUBLISHED-TTL:P3D
REFRESH-INTERVAL:P3D
CALSCALE:GREGORIAN
BEGIN:VEVENT
DTSTART;VALUE=DATE:20230215
DTEND;VALUE=DATE:20230216
TRANSP:TRANSPARENT
X-MICROSOFT-CDO-ALLDAYEVENT:TRUE
SUMMARY:Gumdrop Day Take & Makes released
DESCRIPTION:Celebrate National Gumdrop day with the library! Using just gumdrops and toothpicks\, see if you can build a stable structure. Can it hold a book? Reach toward the sky?\n\n\n\nAll materials provided. Take & Make kits are available one per child while supplies last.
X-ALT-DESC;FMTTYPE=text/html:Celebrate National Gumdrop day with the library! Using just gumdrops and toothpicks\, see if you can build a stable structure. Can it hold a book? Reach toward the sky?<br />\n<br />\nAll materials provided. Take &amp\; Make kits are available one per child while supplies last.
LOCATION:615 Phillips Blvd. Sauk City\, WI
UID:e.1184.29900
SEQUENCE:3
DTSTAMP:20260420T102147Z
URL:http://members.saukprairie.com/events/details/gumdrop-day-take-makes-released-29900
END:VEVENT

END:VCALENDAR
