BEGIN:VCALENDAR
VERSION:2.0
PRODID:-//ChamberMaster//Event Calendar 2.0//EN
METHOD:PUBLISH
X-PUBLISHED-TTL:P3D
REFRESH-INTERVAL:P3D
CALSCALE:GREGORIAN
BEGIN:VEVENT
DTSTART;VALUE=DATE:20171007
DTEND;VALUE=DATE:20171008
TRANSP:TRANSPARENT
X-MICROSOFT-CDO-ALLDAYEVENT:TRUE
SUMMARY:Gym To Gym Obstacle Run/Walk
DESCRIPTION:4th annual Gym to Gym obstacle run/walk \n\nAbout a 2 mile run/walk with optional workout obstacles along the way. Lunch\, beer\, raffles\, games\, and events after run/walk\n\n\n\nRegistration starts at 9:30am At The Gym Bar And Grill\n\nRace starts 10:00am at Zefit\n\n\n\nCost $25 pre registration before September 20th\n\n$30 after the 20th\, includes run/walk\, Lunch\, a beer or soda\, and a T shirt (only guaranteed a T shirt if you pre register)\n\n\n\nAll proceeds will be donated to Bar Buddies of Sauk Prairie
X-ALT-DESC;FMTTYPE=text/html:<span style="color: rgb(75\, 79\, 86)\; font-family: Helvetica\, Arial\, sans-serif\; font-size: 14px\;">4th annual Gym to Gym obstacle run/walk&nbsp\;</span><br style="color: rgb(75\, 79\, 86)\; font-family: Helvetica\, Arial\, sans-serif\; font-size: 14px\;" />\n<span style="color: rgb(75\, 79\, 86)\; font-family: Helvetica\, Arial\, sans-serif\; font-size: 14px\;">About a 2 mile run/walk with optional workout obstacles along the way. Lunch\, beer\, raffles\, games\, and events after run/walk</span><br style="color: rgb(75\, 79\, 86)\; font-family: Helvetica\, Arial\, sans-serif\; font-size: 14px\;" />\n<br style="color: rgb(75\, 79\, 86)\; font-family: Helvetica\, Arial\, sans-serif\; font-size: 14px\;" />\n<span style="color: rgb(75\, 79\, 86)\; font-family: Helvetica\, Arial\, sans-serif\; font-size: 14px\;">Registration starts at 9:30am At The Gym Bar And Grill</span><br style="color: rgb(75\, 79\, 86)\; font-family: Helvetica\, Arial\, sans-serif\; font-size: 14px\;" />\n<span style="color: rgb(75\, 79\, 86)\; font-family: Helvetica\, Arial\, sans-serif\; font-size: 14px\;">Race starts 10:00am at Zefit</span><br style="color: rgb(75\, 79\, 86)\; font-family: Helvetica\, Arial\, sans-serif\; font-size: 14px\;" />\n<br style="color: rgb(75\, 79\, 86)\; font-family: Helvetica\, Arial\, sans-serif\; font-size: 14px\;" />\n<span style="color: rgb(75\, 79\, 86)\; font-family: Helvetica\, Arial\, sans-serif\; font-size: 14px\;">Cost $25 pre registration before September 20th</span><br style="color: rgb(75\, 79\, 86)\; font-family: Helvetica\, Arial\, sans-serif\; font-size: 14px\;" />\n<span style="color: rgb(75\, 79\, 86)\; font-family: Helvetica\, Arial\, sans-serif\; font-size: 14px\;">$30 after the 20th\, includes run/walk\, Lunch\, a beer or soda\, and a T shirt (only guaranteed a T shirt if you pre register)</span><br style="color: rgb(75\, 79\, 86)\; font-family: Helvetica\, Arial\, sans-serif\; font-size: 14px\;" />\n<br style="color: rgb(75\, 79\, 86)\; font-family: Helvetica\, Arial\, sans-serif\; font-size: 14px\;" />\n<span style="color: rgb(75\, 79\, 86)\; font-family: Helvetica\, Arial\, sans-serif\; font-size: 14px\;">All proceeds will be donated to Bar Buddies of Sauk Prairie</span>
LOCATION:
UID:e.1184.13949
SEQUENCE:3
DTSTAMP:20260424T222236Z
URL:http://members.saukprairie.com/events/details/gym-to-gym-obstacle-run-walk-13949
END:VEVENT

END:VCALENDAR
