BEGIN:VCALENDAR
VERSION:2.0
PRODID:-//ChamberMaster//Event Calendar 2.0//EN
METHOD:PUBLISH
X-PUBLISHED-TTL:P3D
REFRESH-INTERVAL:P3D
CALSCALE:GREGORIAN
BEGIN:VEVENT
DTSTART:20161105T000000Z
DTEND:20161105T020000Z
X-MICROSOFT-CDO-ALLDAYEVENT:FALSE
SUMMARY:Habitat Birthday Paint Nite
DESCRIPTION:Habitat for Humanity of Wisconsin River Area is hosting a Paint Nite for our 15th birthday. Celebrate with us at the enchanting Baraboo Arts Center. At Paint Nite\, an artist will teach you to create a heart-warming winter moonlight scene. You don't need to bring anything--all required supplies will be provided\, and you get to take home your completed canvas. No art experience needed!
X-ALT-DESC;FMTTYPE=text/html:Habitat for Humanity of Wisconsin River Area is hosting a Paint Nite for our 15th birthday. Celebrate with us at the enchanting Baraboo Arts Center. At Paint Nite\, an artist will teach you to create a heart-warming winter moonlight scene. You don&#39\;t need to bring anything--all required supplies will be provided\, and you get to take home your completed canvas. No art experience needed!
LOCATION:Baraboo Arts Center 323 Water Street\, Baraboo\, WI
UID:e.1184.9388
SEQUENCE:3
DTSTAMP:20260425T161124Z
URL:http://members.saukprairie.com/events/details/habitat-birthday-paint-nite-9388
END:VEVENT

END:VCALENDAR
