BEGIN:VCALENDAR
VERSION:2.0
PRODID:-//ChamberMaster//Event Calendar 2.0//EN
METHOD:PUBLISH
X-PUBLISHED-TTL:P3D
REFRESH-INTERVAL:P3D
CALSCALE:GREGORIAN
BEGIN:VEVENT
DTSTART:20230617T153000Z
DTEND:20230617T163000Z
X-MICROSOFT-CDO-ALLDAYEVENT:FALSE
SUMMARY:Hair Factory
DESCRIPTION:Learn basic styling techniques (pigtails\, braids\, and more) with the help of a hair stylist! This interactive program is intended for one caregiver and an accompanying child. Hair kit included for each pair at class. Space is limited and registration required.
X-ALT-DESC;FMTTYPE=text/html:Learn basic styling techniques (pigtails\, braids\, and more) with the help of a hair stylist! This interactive program is intended for one caregiver and an accompanying child. Hair kit included for each pair at class. Space is limited and registration required.
LOCATION:615 Phillips Blvd. Sauk City 53583
UID:e.1184.30806
SEQUENCE:3
DTSTAMP:20260420T120008Z
URL:http://members.saukprairie.com/events/details/hair-factory-30806
END:VEVENT

END:VCALENDAR
