BEGIN:VCALENDAR
VERSION:2.0
PRODID:-//ChamberMaster//Event Calendar 2.0//EN
METHOD:PUBLISH
X-PUBLISHED-TTL:P3D
REFRESH-INTERVAL:P3D
CALSCALE:GREGORIAN
BEGIN:VEVENT
DTSTART:20171029T010000Z
DTEND:20171029T070000Z
X-MICROSOFT-CDO-ALLDAYEVENT:FALSE
SUMMARY:Halloween Bash at Riviera Bowl
DESCRIPTION:Costume Contest! 3 Winners! Judging takes place at 10PM! \n\nRandom Prize Drawings taking place all night! Every drink purchased gets you a chance to win!\n\nLive music from DJ Tom!\n\nDrink Specials served in 2017 Halloween Pint Glasses\, buy one and you get to keep the glass!
X-ALT-DESC;FMTTYPE=text/html:<span style="color: rgb(75\, 79\, 86)\; font-family: Helvetica\, Arial\, sans-serif\; font-size: 14px\;">Costume Contest! 3 Winners! Judging takes place at 10PM!&nbsp\;</span><br style="color: rgb(75\, 79\, 86)\; font-family: Helvetica\, Arial\, sans-serif\; font-size: 14px\;" />\n<span style="color: rgb(75\, 79\, 86)\; font-family: Helvetica\, Arial\, sans-serif\; font-size: 14px\;">Random Prize Drawings taking place all night! Every drink purchased gets you a chance to win!</span><br style="color: rgb(75\, 79\, 86)\; font-family: Helvetica\, Arial\, sans-serif\; font-size: 14px\;" />\n<span style="color: rgb(75\, 79\, 86)\; font-family: Helvetica\, Arial\, sans-serif\; font-size: 14px\;">Live music from DJ Tom!</span><br style="color: rgb(75\, 79\, 86)\; font-family: Helvetica\, Arial\, sans-serif\; font-size: 14px\;" />\n<span style="color: rgb(75\, 79\, 86)\; font-family: Helvetica\, Arial\, sans-serif\; font-size: 14px\;">Drink Specials served in 2017 Halloween Pint Glasses\, buy one and you get to keep the glass!</span>
LOCATION:Riveria Bowl 51 Polk Street Sauk City
UID:e.1184.13973
SEQUENCE:3
DTSTAMP:20260424T221933Z
URL:http://members.saukprairie.com/events/details/halloween-bash-at-riviera-bowl-13973
END:VEVENT

END:VCALENDAR
