BEGIN:VCALENDAR
VERSION:2.0
PRODID:-//ChamberMaster//Event Calendar 2.0//EN
METHOD:PUBLISH
X-PUBLISHED-TTL:P3D
REFRESH-INTERVAL:P3D
CALSCALE:GREGORIAN
BEGIN:VEVENT
DTSTART:20191026T000000Z
DTEND:20191026T045500Z
X-MICROSOFT-CDO-ALLDAYEVENT:FALSE
SUMMARY:Halloween Dance at the Dorf Haus
DESCRIPTION:5th GEAR will be putting the "ROX" in Roxbury\, Friday\, October 25th for the annual Sauk City Volunteer Fire Department Halloween Dance! Come join us from 8:30 pm   12:30 am for a great night of fun and entertainment\, while raising money for the fire department. Admission at the door is only $10.00. There will be prizes awarded later in the evening for the best costumes. Hope to see you there!
X-ALT-DESC;FMTTYPE=text/html:<span style="color: rgb(29\, 33\, 41)\; font-family: Helvetica\, Arial\, sans-serif\; font-size: 14px\; white-space: pre-wrap\;">5th GEAR will be putting the &quot\;ROX&quot\; in Roxbury\, Friday\, October 25th for the annual Sauk City Volunteer Fire Department Halloween Dance! Come join us from 8:30 pm &ndash\; 12:30 am for a great night of fun and entertainment\, while raising money for the fire department. Admission at the door is only $10.00. There will be prizes awarded later in the evening for the best costumes. Hope to see you there! </span>
LOCATION:Dorf Hause
UID:e.1184.23598
SEQUENCE:3
DTSTAMP:20260423T112840Z
URL:http://members.saukprairie.com/events/details/halloween-dance-at-the-dorf-haus-23598
END:VEVENT

END:VCALENDAR
