BEGIN:VCALENDAR
VERSION:2.0
PRODID:-//ChamberMaster//Event Calendar 2.0//EN
METHOD:PUBLISH
X-PUBLISHED-TTL:P3D
REFRESH-INTERVAL:P3D
CALSCALE:GREGORIAN
BEGIN:VEVENT
DTSTART:20181027T200000Z
DTEND:20181028T000000Z
X-MICROSOFT-CDO-ALLDAYEVENT:FALSE
SUMMARY:Halloween Dance Party
DESCRIPTION:Halloween Dance Party:  Come and enjoy a spooky night that includes a costume and pumpkin carving Contest - please bring pumpkins to be submitted by 3pm\, or dropped off the day before.  Fun for the whole Family!  Bouncy Houses for the little ones\, delicious Caramel Apple Station\, Bonfire with S'mores\, Trick or Treating\, Halloween Dance and more!  Food and drinks will be provided while supplies last.  Entry is FREE!  Donate baked goods\, day before or by 3pm.  Proceeds will go to local nonprofits  (GSPIE\, 6:8\, Bar Buddies\, or Sauk Prairie Area Food Pantry)  Any questions or if want to play a part in the haunted house area\, please call 608-370-1689.  Parents & Guardians please supervise children during the event.
X-ALT-DESC;FMTTYPE=text/html:Halloween Dance Party:&nbsp\; Come and enjoy a spooky night that includes a costume and pumpkin carving Contest - please bring pumpkins to be submitted by 3pm\, or dropped off the day before.&nbsp\; Fun for the whole Family!&nbsp\; Bouncy Houses for the little ones\, delicious Caramel Apple Station\, Bonfire with S&rsquo\;mores\, Trick or Treating\, Halloween Dance and more!&nbsp\; Food and drinks&nbsp\;will be provided while supplies last.&nbsp\; Entry is FREE!&nbsp\; Donate baked goods\, day before or by 3pm.&nbsp\;&nbsp\;Proceeds will go to local&nbsp\;nonprofits &nbsp\;(GSPIE\, 6:8\, Bar Buddies\, or Sauk Prairie Area Food Pantry) &nbsp\;Any questions or if want to play a part in the haunted house&nbsp\;area\, please call 608-370-1689.&nbsp\; Parents &amp\; Guardians please supervise children during the event.&nbsp\;
LOCATION:1111 Dallas Street Suite A & B Sauk City\, WI 53583
UID:e.1184.21415
SEQUENCE:3
DTSTAMP:20260424T033816Z
URL:http://members.saukprairie.com/events/details/halloween-dance-party-21415
END:VEVENT

END:VCALENDAR
