BEGIN:VCALENDAR
VERSION:2.0
PRODID:-//ChamberMaster//Event Calendar 2.0//EN
METHOD:PUBLISH
X-PUBLISHED-TTL:P3D
REFRESH-INTERVAL:P3D
CALSCALE:GREGORIAN
BEGIN:VEVENT
DTSTART:20181026T140000Z
DTEND:20181026T150000Z
X-MICROSOFT-CDO-ALLDAYEVENT:FALSE
SUMMARY:Halloween Stuffed Animal Sleepover Pick-up
DESCRIPTION:Children can bring a next-to-favorite stuffed animal to a Halloween Stuffed Animal Sleepover. Dress up is encouraged for children and their stuffed animal friends. Enjoy stories\, crafts and spooky snacks. Stuffed animals spend the night at the library. Children and parents pick up their stuffed animals the next day and enjoy photos of their spooky adventures. Children under 6 must be accompanied by an adult.
X-ALT-DESC;FMTTYPE=text/html:<span style="background-color:rgb(255\, 255\, 255)\; font-family:arial\; font-size:12pt">Children can bring a next-to-favorite stuffed animal to a Halloween Stuffed Animal Sleepover. Dress up is encouraged for children and their stuffed animal friends. Enjoy stories\, crafts and spooky snacks. Stuffed animals spend the night at the library. Children and parents pick up their stuffed animals the next day and enjoy photos of their spooky adventures. Children under 6 must be accompanied by an adult.</span>
LOCATION:
UID:e.1184.21332
SEQUENCE:3
DTSTAMP:20260424T034038Z
URL:http://members.saukprairie.com/events/details/halloween-stuffed-animal-sleepover-pick-up-21332
END:VEVENT

END:VCALENDAR
