BEGIN:VCALENDAR
VERSION:2.0
PRODID:-//ChamberMaster//Event Calendar 2.0//EN
METHOD:PUBLISH
X-PUBLISHED-TTL:P3D
REFRESH-INTERVAL:P3D
CALSCALE:GREGORIAN
BEGIN:VEVENT
DTSTART:20210507T130000Z
DTEND:20210517T040000Z
X-MICROSOFT-CDO-ALLDAYEVENT:FALSE
SUMMARY:Hanging Baskets for Sale
DESCRIPTION:Hanging baskets for Sale\, Wyttenbach Farms\, E11078 River Road\, Sauk City\, (Watch for flags along Hwy.) at the greenhouse.  Sale dates and times:  May 7th & 8th\, 8:00 am - 1:00 pm\; May 9th\, 8:00 - 11:00 am\; May 14th\, 15th & 16th\, 8:00 am - 1:00 pm\; or by special appointment call 608-643-6905.\n\n\n\nAll proceeds to benefit BADGER HONOR FLIGHT:
X-ALT-DESC;FMTTYPE=text/html:Hanging baskets for Sale\, Wyttenbach Farms\, E11078 River Road\, Sauk City\, (Watch for flags along Hwy.) at the greenhouse.&nbsp\; Sale dates and times:&nbsp\; May 7th &amp\; 8th\, 8:00 am - 1:00 pm\; May 9th\, 8:00 - 11:00 am\; May 14th\, 15th &amp\; 16th\, 8:00 am - 1:00 pm\; or by special appointment call 608-643-6905.<br />\n<br />\nAll proceeds to benefit BADGER HONOR FLIGHT:
LOCATION:
UID:e.1184.26611
SEQUENCE:3
DTSTAMP:20260422T051607Z
URL:http://members.saukprairie.com/events/details/hanging-baskets-for-sale-26611
END:VEVENT

END:VCALENDAR
