BEGIN:VCALENDAR
VERSION:2.0
PRODID:-//ChamberMaster//Event Calendar 2.0//EN
METHOD:PUBLISH
X-PUBLISHED-TTL:P3D
REFRESH-INTERVAL:P3D
CALSCALE:GREGORIAN
BEGIN:VEVENT
DTSTART:20190922T000000Z
DTEND:20190922T040000Z
X-MICROSOFT-CDO-ALLDAYEVENT:FALSE
SUMMARY:Hank at Antique Tap
DESCRIPTION:Honky-tonkin' on a Saturday night in Sauk City! First time at the Antique Tap. They won't know what hit 'em...
X-ALT-DESC;FMTTYPE=text/html:<div class="_63eu" style="box-sizing: border-box\; font-size: 14px\; max-height: 260px\; overflow: hidden\; padding: 12px\; overflow-wrap: break-word\; font-family: Helvetica\, Arial\, sans-serif\; color: rgb(29\, 33\, 41)\;">\n<div class="_63ew" data-testid="event-permalink-details" style="white-space: pre-wrap\; font-family: inherit\;"><span style="font-family: inherit\;">Honky-tonkin&#39\; on a Saturday night in Sauk City! First time at the Antique Tap. They won&#39\;t know what hit &#39\;em...</span></div>\n\n<div>&nbsp\;</div>\n</div>\n
LOCATION:Antique Tap 817 Water St. Sauk City
UID:e.1184.22722
SEQUENCE:3
DTSTAMP:20260423T113316Z
URL:http://members.saukprairie.com/events/details/hank-at-antique-tap-22722
END:VEVENT

END:VCALENDAR
