BEGIN:VCALENDAR
VERSION:2.0
PRODID:-//ChamberMaster//Event Calendar 2.0//EN
METHOD:PUBLISH
X-PUBLISHED-TTL:P3D
REFRESH-INTERVAL:P3D
CALSCALE:GREGORIAN
BEGIN:VEVENT
DTSTART;VALUE=DATE:20171119
DTEND;VALUE=DATE:20171121
TRANSP:TRANSPARENT
X-MICROSOFT-CDO-ALLDAYEVENT:TRUE
SUMMARY:Happy Holidays from the Homefront
DESCRIPTION:Come back with us to the 1940s where stars from stage and screen answered the call to entertain the troops over the holidays via the glow of their radios!  Happy Holidays from the Homefront is a two-act celebration of the Greatest Generation and how they kept up their can do spirit when life was still uncertain.  This review features many of the beloved songs from the era and\, because it is Christmas\, some of your holiday favorites will be in the mix!\n\n \n\n	\n		\n			- Saturday\, November 18 - 6:00pm dinner\, 7:00pm show\n\n			- Sunday\, November 19 - 12:30pm dinner\, 1:30pm show\n\n			 (Limited availability due to a bus group)\n\n			- Saturday\, November 25  - 6:00pm dinner\, 7:00pm show\n\n			- Sunday\, November 26  - 12:30pm lunch\, 1:30pm show\n		\n	\n\n\n \nPlease click here to reserve your seat!
X-ALT-DESC;FMTTYPE=text/html:<span style="font-family:georgia\,serif\;"><span style="font-size:12.0pt\;">Come back with us to the 1940s where stars from stage and screen answered the call to entertain the troops over the holidays via the glow of their radios!&nbsp\; Happy Holidays from the Homefront is a two-act celebration of the Greatest Generation and how they kept up their can do spirit when life was still uncertain.&nbsp\; This review features many of the beloved songs from the era and\, because it is Christmas\, some of your holiday favorites will be in the mix!</span></span><br />\n&nbsp\;\n<table align="center" border="0" cellpadding="0" cellspacing="0" style="width:72.0%\;" width="72%">\n	<tbody>\n		<tr>\n			<td style="padding:0in 0in 0in 0in\;"><strong><span style="font-family:new york\,serif\;"><span style="font-size:12.0pt\;">- Saturday\,&nbsp\;November 18&nbsp\;-&nbsp\;6:00pm dinner\, 7:00pm show<br />\n			- Sunday\,&nbsp\;November 19 - 12:30pm dinner\, 1:30pm&nbsp\;show<br />\n			&nbsp\;(Limited availability due to a bus group)<br />\n			- Saturday\, November 25&nbsp\;&nbsp\;- 6:00pm dinner\, 7:00pm show</span></span></strong><br />\n			<strong><span style="font-family:new york\,serif\;"><span style="font-size:12.0pt\;">- Sunday\, November 26&nbsp\;&nbsp\;- 12:30pm lunch\, 1:30pm show</span></span></strong></td>\n		</tr>\n	</tbody>\n</table>\n\n<div style="clear:both\;">&nbsp\;</div>\n<span style="font-size:18px\;"><strong><a href="http://www.foodspot.com/Clients/WI/SaukCity/DorfHausSupperClub/default.aspx?fs=8&amp\;fsp=2109&amp\;accid=19510">Please click here to reserve your seat!</a></strong></span>
LOCATION:Dorf Haus
UID:e.1184.14103
SEQUENCE:3
DTSTAMP:20260424T222133Z
URL:http://members.saukprairie.com/events/details/happy-holidays-from-the-homefront-11-19-2017-14103
END:VEVENT

END:VCALENDAR
