BEGIN:VCALENDAR
VERSION:2.0
PRODID:-//ChamberMaster//Event Calendar 2.0//EN
METHOD:PUBLISH
X-PUBLISHED-TTL:P3D
REFRESH-INTERVAL:P3D
CALSCALE:GREGORIAN
BEGIN:VEVENT
DTSTART:20240308T233000Z
DTEND:20240309T010000Z
X-MICROSOFT-CDO-ALLDAYEVENT:FALSE
SUMMARY:Happy Hour: Stretch/Functional Movement & Social with Tammy F.
DESCRIPTION:Happy Hour:  Stretch/Functional Movement & Social With Tammy F. @ Prairie Fire Yoga\n\n\n\nFriday\, March 8th 5:30 PM - 7 PM\n\n\n\nTea and Light Snacks Provided
X-ALT-DESC;FMTTYPE=text/html:Happy Hour:&nbsp\; Stretch/Functional Movement &amp\; Social With Tammy F. @ Prairie Fire Yoga<br />\n<br />\nFriday\, March 8th 5:30 PM - 7 PM<br />\n<br />\nTea and Light Snacks Provided
LOCATION:Prairie Fire Yoga
UID:e.1184.32054
SEQUENCE:3
DTSTAMP:20260419T232503Z
URL:http://members.saukprairie.com/events/details/happy-hour-stretch-functional-movement-social-with-tammy-f-32054
END:VEVENT

END:VCALENDAR
