BEGIN:VCALENDAR
VERSION:2.0
PRODID:-//ChamberMaster//Event Calendar 2.0//EN
METHOD:PUBLISH
X-PUBLISHED-TTL:P3D
REFRESH-INTERVAL:P3D
CALSCALE:GREGORIAN
BEGIN:VEVENT
DTSTART:20190413T200000Z
DTEND:20190413T213000Z
X-MICROSOFT-CDO-ALLDAYEVENT:FALSE
SUMMARY:Harp Performance
DESCRIPTION:Harp Performance\n\nBy Susie Tatone\n\n \n\nAn Afternoon of Classical and Modern Harp Music\n\n(with Fascinating and Little-known Historical and Musical Facts!)\n\n \n\nSaturday\, April 13\, 2019\n\n3-4:30pm\n\nPark Hall (aka Freethinkers Hall) 307 Polk St.\, Sauk City\, WI \n\n \n\nAdult tickets- $10\, Seniors/Students- $8\, Children 10 and under- free.\n\nTickets at the door. Cash or check please.\n\n \n\n Wine available for purchase. Cheese and crackers provided.
X-ALT-DESC;FMTTYPE=text/html:<strong><span style="color:#2F5496\;"><span style="font-family:book antiqua\,serif\;"><span style="font-size:28.0pt\;">Harp Performance</span></span></span></strong><br />\n<strong><span style="color:#2F5496\;"><span style="font-family:book antiqua\,serif\;"><span style="font-size:22.0pt\;">By Susie Tatone</span></span></span></strong><br />\n&nbsp\;<br />\n<strong><span style="color:#538135\;"><span style="font-family:book antiqua\,serif\;"><span style="font-size:18.0pt\;">An Afternoon of Classical and Modern Harp Music</span></span></span></strong><br />\n<strong><span style="color:#538135\;"><span style="font-family:book antiqua\,serif\;"><span style="font-size:14.0pt\;">(with Fascinating and Little-known Historical and Musical Facts!)</span></span></span></strong><br />\n&nbsp\;<br />\n<strong><span style="color:#7030A0\;"><span style="font-family:book antiqua\,serif\;"><span style="font-size:24.0pt\;">Saturday\, April 13\, 2019</span></span></span></strong><br />\n<strong><span style="color:#7030A0\;"><span style="font-family:book antiqua\,serif\;"><span style="font-size:22.0pt\;">3-4:30pm</span></span></span></strong><br />\n<strong><span style="color:#7030A0\;"><span style="font-family:book antiqua\,serif\;"><span style="font-size:16.0pt\;">Park Hall (aka Freethinkers Hall) 307 Polk St.\, Sauk City\, WI </span></span></span></strong><br />\n&nbsp\;<br />\n<strong><span style="color:#4472C4\;"><span style="font-family:book antiqua\,serif\;"><span style="font-size:14.0pt\;">Adult tickets- $10\, Seniors/Students- $8\, Children 10 and under- free.</span></span></span></strong><br />\n<strong><span style="color:#4472C4\;"><span style="font-family:book antiqua\,serif\;"><span style="font-size:14.0pt\;">Tickets at the door. Cash or check please.</span></span></span></strong><br />\n&nbsp\;<br />\n<strong><span style="color:#4472C4\;"><span style="font-family:book antiqua\,serif\;"><span style="font-size:14.0pt\;">&nbsp\;Wine available for purchase. Cheese and crackers provided.</span></span></span></strong>
LOCATION:
UID:e.1184.22216
SEQUENCE:3
DTSTAMP:20260423T184038Z
URL:http://members.saukprairie.com/events/details/harp-performance-22216
END:VEVENT

END:VCALENDAR
