BEGIN:VCALENDAR
VERSION:2.0
PRODID:-//ChamberMaster//Event Calendar 2.0//EN
METHOD:PUBLISH
X-PUBLISHED-TTL:P3D
REFRESH-INTERVAL:P3D
CALSCALE:GREGORIAN
BEGIN:VEVENT
DTSTART;VALUE=DATE:20221001
DTEND;VALUE=DATE:20221011
TRANSP:TRANSPARENT
X-MICROSOFT-CDO-ALLDAYEVENT:TRUE
SUMMARY:Harrisburg Troy Historical Society on Farm/Art DTour
DESCRIPTION:Sat\, Oct 1 from 11-5:00 pm \n\n	Food choices of Sloppy Joes on a bun\, chips\, soups\, brats & hot dogs\, cider donuts\, and Amish pies along with coffee\, soda\, and water\n	Self Tours of our Heritage Museum (with a greeter available for questions)\n	Self Tours of our One Room Schoolhouse \n	Barn Quilts by local artist Carol Wilhelm\n\n \n\nSun\, Oct 2 from 11-5:00\n\n\n	Food choices of Sloppy Joes on a bun\, chips\, soups\, brats & hot dogs\, cider donuts\, and Amish pies along with coffee\, soda\, and water\n	Self Tours of our Heritage Museum (with a greeter available for questions)\n	Self Tours of our One Room Schoolhouse (with a greeter available for questions)\n	Spinning Fiber into Yarn Demonstrations by Linda Schnor - yarn for sale!\n	Barn Quilts by local artist Carol Wilhelm\n\n \n\nMon\, Oct 3 CLOSED - drive by only\n\n \n\nTues\, Oct 4 from 11-3:00 pm \n\n\n	Self Tours of our Heritage Museum (with a greeter available for questions)\n	Self Tours of our One Room Schoolhouse (with a greeter available for questions)\n	No food sales today\n	Barn Quilts by local artist Carol Wilhelm\n\n \n\nWed\, Oct 5 from 11-3:00 pm \n\n\n	Self Tours of our Heritage Museum (with a greeter available for questions)\n	Self Tours of our One Room Schoolhouse (with a greeter available for questions)\n	No food sales today\n	Barn Quilts by local artist Carol Wilhelm\n\n \n\nThurs\, Oct 6 CLOSED - drive by only\n\n \n\nFri\, Oct 7 from 11-5:00 pm \n\n\n	Food choices of Sloppy Joes on a bun\, chips\, soups\, brats & hot dogs\, cider donuts\, and Amish pies with coffee\, soda\, and water\n	Self Tours of our Heritage Museum (with a greeter available for questions)\n	Self Tours of our One Room Schoolhouse (with a greeter available for questions)\n	Post Cards from the Past | Scott Sprecher\n	Barn Quilts by local artist Carol Wilhelm\n\n \n\nSat\, Oct 8 from 11-5:00 pm \n\n\n	Food choices of Sloppy Joes on a bun\, chips\, soups\, brats & hot dogs\, cider donuts\, and Amish pies with coffee\, soda\, and water\n	Self Tours of our Heritage Museum (with a greeter available for questions)\n	Self Tours of our One Room Schoolhouse (with a greeter available for questions)\n	Spinning Fiber into Yarn Demonstrations by Linda Schnor. Yarn will be for sale.\n	Barn Quilts by local artist Carol Wilhelm\n\n \n\nSun\, Oct 9 from 11-5:00 pm \n\n\n	Food choices of Sloppy Joes on a bun\, chips\, soups\, brats & hot dogs\, cider donuts\, and Amish pies along with coffee\, soda\, and water\n	Self Tours of our Heritage Museum (with a greeter available for questions)\n	Self Tours of our One Room Schoolhouse (with a greeter available for questions)\n	Moseman Farm Honey display.  Honey will  be sold\n	Barn Quilts by local artist Carol Wilhelm
X-ALT-DESC;FMTTYPE=text/html:<strong>Sat\, Oct 1</strong>&nbsp\;from <strong>11-5:00</strong> pm&nbsp\;\n<ul>\n	<li>Food choices of Sloppy Joes on a bun\, chips\, soups\, brats &amp\; hot dogs\, cider donuts\, and&nbsp\;Amish pies&nbsp\;along with coffee\, soda\, and water</li>\n	<li>Self Tours of our Heritage Museum (with a greeter available for questions)</li>\n	<li>Self Tours of our One Room Schoolhouse&nbsp\;</li>\n	<li>Barn Quilts by local artist Carol Wilhelm</li>\n</ul>\n&nbsp\;<br />\n<strong>Sun\, Oct 2</strong>&nbsp\;from <strong>11-5:00</strong>\n\n<ul>\n	<li>Food choices of Sloppy Joes on a bun\, chips\, soups\, brats &amp\; hot dogs\, cider donuts\, and Amish pies along with coffee\, soda\, and water</li>\n	<li>Self Tours of our&nbsp\;Heritage&nbsp\;Museum (with a greeter available for questions)</li>\n	<li>Self Tours of our One Room Schoolhouse (with a greeter available for questions)</li>\n	<li>Spinning Fiber into Yarn Demonstrations by&nbsp\;Linda Schnor - yarn&nbsp\;for sale!</li>\n	<li>Barn Quilts by local artist Carol Wilhelm</li>\n</ul>\n&nbsp\;<br />\n<strong>Mon\, Oct 3</strong>&nbsp\;CLOSED - drive by only<br />\n&nbsp\;<br />\n<strong>Tues\, Oct 4</strong>&nbsp\;from <strong>11-3:00</strong> pm&nbsp\;\n\n<ul>\n	<li>Self Tours of our&nbsp\;Heritage&nbsp\;Museum (with a greeter available for questions)</li>\n	<li>Self Tours of our One Room Schoolhouse (with a greeter available for questions)</li>\n	<li><em>No food sales today</em></li>\n	<li>Barn Quilts by local artist Carol Wilhelm</li>\n</ul>\n&nbsp\;<br />\n<strong>Wed\, Oct 5</strong>&nbsp\;from <strong>11-3:00</strong> pm&nbsp\;\n\n<ul>\n	<li>Self Tours of our&nbsp\;Heritage&nbsp\;Museum (with a greeter available for questions)</li>\n	<li>Self Tours of our One Room Schoolhouse (with a greeter available for questions)</li>\n	<li><em>No food sales today</em></li>\n	<li>Barn Quilts by local artist Carol Wilhelm</li>\n</ul>\n&nbsp\;<br />\n<strong>Thurs\, Oct 6</strong>&nbsp\;<strong>CLOSED</strong>&nbsp\;- drive by only<br />\n&nbsp\;<br />\n<strong>Fri\, Oct 7</strong>&nbsp\;from <strong>11-5:00</strong> pm&nbsp\;\n\n<ul>\n	<li>Food choices of Sloppy Joes on a bun\, chips\, soups\, brats &amp\; hot dogs\, cider donuts\, and&nbsp\;Amish pies&nbsp\;with coffee\, soda\, and water</li>\n	<li>Self Tours of our&nbsp\;Heritage&nbsp\;Museum (with a greeter available for questions)</li>\n	<li>Self Tours of our One Room Schoolhouse (with a greeter available for questions)</li>\n	<li>Post Cards from the Past | Scott Sprecher</li>\n	<li>Barn Quilts by local artist Carol Wilhelm</li>\n</ul>\n&nbsp\;<br />\n<strong>Sat\, Oct 8</strong>&nbsp\;from <strong>11-5:00</strong> pm&nbsp\;\n\n<ul>\n	<li>Food choices of Sloppy Joes on a bun\, chips\, soups\, brats &amp\; hot dogs\, cider donuts\, and&nbsp\;Amish pies with coffee\, soda\, and water</li>\n	<li>Self Tours of our Heritage&nbsp\;Museum (with a greeter available for questions)</li>\n	<li>Self Tours of our One Room Schoolhouse (with a greeter available for questions)</li>\n	<li>Spinning Fiber into Yarn Demonstrations by Linda Schnor. Yarn will be for sale.</li>\n	<li>Barn Quilts by local artist Carol Wilhelm</li>\n</ul>\n&nbsp\;<br />\n<strong>Sun\, Oct 9</strong>&nbsp\;from <strong>11-5:00</strong> pm&nbsp\;\n\n<ul>\n	<li>Food choices of Sloppy Joes on a bun\, chips\, soups\, brats &amp\; hot dogs\, cider donuts\, and&nbsp\;Amish pies&nbsp\;along with coffee\, soda\, and water</li>\n	<li>Self Tours of our&nbsp\;Heritage&nbsp\;Museum (with a greeter available for questions)</li>\n	<li>Self Tours of our One Room Schoolhouse (with a greeter available for questions)</li>\n	<li>Moseman Farm Honey display.&nbsp\; Honey will &nbsp\;be sold</li>\n	<li>Barn Quilts by local artist Carol Wilhelm</li>\n</ul>\n&nbsp\;
LOCATION:E7646 County Road B Spring Green\, WI 53588
UID:e.1184.28703
SEQUENCE:3
DTSTAMP:20260421T051201Z
URL:http://members.saukprairie.com/events/details/harrisburg-troy-historical-society-on-farm-art-dtour-28703
END:VEVENT

END:VCALENDAR
