BEGIN:VCALENDAR
VERSION:2.0
PRODID:-//ChamberMaster//Event Calendar 2.0//EN
METHOD:PUBLISH
X-PUBLISHED-TTL:P3D
REFRESH-INTERVAL:P3D
CALSCALE:GREGORIAN
BEGIN:VEVENT
DTSTART:20160711T180000Z
DTEND:20160711T190000Z
X-MICROSOFT-CDO-ALLDAYEVENT:FALSE
SUMMARY:Healthy Beats
DESCRIPTION:Renowned children's musician Laura Doherty will be here to acoustically rock your kid's world! All ages are welcome. Children under 5 must be accompanied by an adult. Contact Beth at 643-8318 with questions.
X-ALT-DESC;FMTTYPE=text/html:Renowned children&#39\;s musician Laura Doherty will be here to acoustically rock your kid&#39\;s world! All ages are welcome. Children under 5 must be accompanied by an adult. Contact Beth at 643-8318 with questions.
LOCATION:Ruth Culver Community Library 540 Water Street\, Prairie du Sac
UID:e.1184.8498
SEQUENCE:3
DTSTAMP:20260425T224318Z
URL:http://members.saukprairie.com/events/details/healthy-beats-07-11-2016-8498
END:VEVENT

END:VCALENDAR
