BEGIN:VCALENDAR
VERSION:2.0
PRODID:-//ChamberMaster//Event Calendar 2.0//EN
METHOD:PUBLISH
X-PUBLISHED-TTL:P3D
REFRESH-INTERVAL:P3D
CALSCALE:GREGORIAN
BEGIN:VEVENT
DTSTART;VALUE=DATE:20230512
DTEND;VALUE=DATE:20230514
TRANSP:TRANSPARENT
X-MICROSOFT-CDO-ALLDAYEVENT:TRUE
SUMMARY:Heroes For Honor Flower Sale Fundraiser
DESCRIPTION:Flower Sale Fundraiser!\n\n\n\nBeautiful 16" Flowering 'Sun' Baskets will be sold by Heroes for Honor to benefit Badger Honor Flight.\n\n\n\n*Please check Facebook for Saturday hours which may be altered if baskets sell out.
X-ALT-DESC;FMTTYPE=text/html:Flower Sale Fundraiser!<br />\n<br />\nBeautiful 16&quot\; Flowering &#39\;Sun&#39\; Baskets will be sold by Heroes for Honor to benefit Badger Honor Flight.<br />\n<br />\n*Please check Facebook for Saturday hours which may be altered if baskets sell out.
LOCATION:Wyttenbach Farm E11078 River Road\, Sauk City
UID:e.1184.30740
SEQUENCE:3
DTSTAMP:20260420T132111Z
URL:http://members.saukprairie.com/events/details/heroes-for-honor-flower-sale-fundraiser-30740
END:VEVENT

END:VCALENDAR
