BEGIN:VCALENDAR
VERSION:2.0
PRODID:-//ChamberMaster//Event Calendar 2.0//EN
METHOD:PUBLISH
X-PUBLISHED-TTL:P3D
REFRESH-INTERVAL:P3D
CALSCALE:GREGORIAN
BEGIN:VEVENT
DTSTART:20160410T190000Z
DTEND:20160410T220000Z
X-MICROSOFT-CDO-ALLDAYEVENT:FALSE
SUMMARY:Heroes for Honor Fundraiser Dance
DESCRIPTION:The celebration will feature music of the big band era by the Dimensions in Sound with other show tunes and popular big band numbers to listen or dance to. A cash bar and the usual excellent Menu fare will be available. This event is a way to say Thank you to our many donors and hopefully to celebrate the sacrifices of our Veterans by funding Badger Honor Flight.\n\nEveryone who has previously fl own is especially invited and encouraged to\n\nwear their Honor Flight hat or shirt.
X-ALT-DESC;FMTTYPE=text/html:The celebration will feature music of the&nbsp\;big band era by the Dimensions in Sound&nbsp\;with other show tunes and popular big band&nbsp\;numbers to listen or dance to.&nbsp\;A cash bar and the usual excellent Menu&nbsp\;fare will be available. This event is a way&nbsp\;to say Thank you to our many donors and&nbsp\;hopefully to celebrate the sacrifices of our&nbsp\;Veterans by funding Badger Honor Flight.<br />\nEveryone who has previously fl own is&nbsp\;especially invited and encouraged to<br />\nwear their Honor Flight hat or shirt.&nbsp\;
LOCATION:Dorf Haus
UID:e.1184.8425
SEQUENCE:3
DTSTAMP:20260426T033338Z
URL:http://members.saukprairie.com/events/details/heroes-for-honor-fundraiser-dance-04-10-2016-8425
END:VEVENT

END:VCALENDAR
