BEGIN:VCALENDAR
VERSION:2.0
PRODID:-//ChamberMaster//Event Calendar 2.0//EN
METHOD:PUBLISH
X-PUBLISHED-TTL:P3D
REFRESH-INTERVAL:P3D
CALSCALE:GREGORIAN
BEGIN:VEVENT
DTSTART;VALUE=DATE:20230805
DTEND;VALUE=DATE:20230806
TRANSP:TRANSPARENT
X-MICROSOFT-CDO-ALLDAYEVENT:TRUE
SUMMARY:Heroes for Honor Fundraiser for BADGER HONOR FLIGHT
DESCRIPTION:Wytttenbach's Command Center Food Truck will be a part of a fundraiser for Badger Honor Flight on Saturday\, August 5th as part of the Meyer Oak Grove Market.\n\n\n\nPANCAKE BREAKFAST will be served from 8 - 11 am.  Adult and children portions available. \n\n\n\nThere will also be a SUNFLOWER SALE\, various arrangements for a donation\; single flowers to beautiful full arrangement & unique presentation.\n\n\n\nSILENT AUCTION for beautiful handmade patriotic quilts.\n\n\n\nHope to see you at the market.
X-ALT-DESC;FMTTYPE=text/html:Wytttenbach&#39\;s Command Center Food Truck will be a part of a fundraiser for Badger Honor Flight on Saturday\, August 5th as part of the Meyer Oak Grove Market.<br />\n<br />\nPANCAKE BREAKFAST will be served from 8 - 11 am.&nbsp\; Adult and children portions available.&nbsp\;<br />\n<br />\nThere will also be a SUNFLOWER SALE\, various arrangements for a donation\; single flowers to beautiful full arrangement &amp\; unique presentation.<br />\n<br />\nSILENT AUCTION for beautiful handmade patriotic quilts.<br />\n<br />\nHope to see you at the market.
LOCATION:
UID:e.1184.30915
SEQUENCE:3
DTSTAMP:20260420T102325Z
URL:http://members.saukprairie.com/events/details/heroes-for-honor-fundraiser-for-badger-honor-flight-30915
END:VEVENT

END:VCALENDAR
