BEGIN:VCALENDAR
VERSION:2.0
PRODID:-//ChamberMaster//Event Calendar 2.0//EN
METHOD:PUBLISH
X-PUBLISHED-TTL:P3D
REFRESH-INTERVAL:P3D
CALSCALE:GREGORIAN
BEGIN:VEVENT
DTSTART;VALUE=DATE:20191005
DTEND;VALUE=DATE:20191014
TRANSP:TRANSPARENT
X-MICROSOFT-CDO-ALLDAYEVENT:TRUE
SUMMARY:Hill and Valley Exploration Tour
DESCRIPTION:The Third Annual Hill and Valley Exploration Tour occurs on the first two full weekends in October. It is two Autumn Weekends to explore farm traditions in the Sauk and Richland County Area. Farms\, Artist Studios\, rural businesses and community groups open their doors to welcome you. Taking the tour to easily connect with local art and food producers!
X-ALT-DESC;FMTTYPE=text/html:The Third Annual Hill and Valley Exploration Tour occurs on the first two full weekends in October. It is two Autumn Weekends to explore farm traditions in the Sauk and Richland County Area. Farms\, Artist Studios\, rural businesses and community groups open their doors to welcome you. Taking the tour to easily connect with local art and food producers!
LOCATION:Sauk and Richland Counties
UID:e.1184.22236
SEQUENCE:3
DTSTAMP:20260423T095342Z
URL:http://members.saukprairie.com/events/details/hill-and-valley-exploration-tour-22236
END:VEVENT

END:VCALENDAR
