BEGIN:VCALENDAR
VERSION:2.0
PRODID:-//ChamberMaster//Event Calendar 2.0//EN
METHOD:PUBLISH
X-PUBLISHED-TTL:P3D
REFRESH-INTERVAL:P3D
CALSCALE:GREGORIAN
BEGIN:VEVENT
DTSTART:20180618T180000Z
DTEND:20180618T190000Z
X-MICROSOFT-CDO-ALLDAYEVENT:FALSE
SUMMARY:Hillbilly Science
DESCRIPTION:The Hillbilly Science Spectacular is coming to the library Monday\, June 18 at 1:00 p.m. The show features a zany hillbilly character who takes the staging area and presents his homemade science experiments for the enjoyment of the crowd. Audience members will assist in experiments that range from cannons\, volcanoes\, optical illusions and so much more! All ages are welcome. Contact Beth at 643-8318 with questions.
X-ALT-DESC;FMTTYPE=text/html:The Hillbilly Science Spectacular is coming to the library Monday\, June 18 at 1:00 p.m. The show features a zany hillbilly character who takes the staging area and presents his homemade science experiments for the enjoyment of the crowd. Audience members will assist in experiments that range from cannons\, volcanoes\, optical illusions and so much more! All ages are welcome. Contact Beth at 643-8318 with questions.
LOCATION:Ruth Culver Community Library 540 Water Street\, Prairie du Sac
UID:e.1184.18115
SEQUENCE:3
DTSTAMP:20260424T100358Z
URL:http://members.saukprairie.com/events/details/hillbilly-science-18115
END:VEVENT

END:VCALENDAR
