BEGIN:VCALENDAR
VERSION:2.0
PRODID:-//ChamberMaster//Event Calendar 2.0//EN
METHOD:PUBLISH
X-PUBLISHED-TTL:P3D
REFRESH-INTERVAL:P3D
CALSCALE:GREGORIAN
BEGIN:VEVENT
DTSTART:20160917T150000Z
DTEND:20160918T000000Z
X-MICROSOFT-CDO-ALLDAYEVENT:FALSE
SUMMARY:Hirams Hustle Ride
DESCRIPTION:Motorcycle ride hosted by the Free Runners Masonic Order and Sauk Prairie Eureka Lodge #113\, F&AM. This ride is open to the public and will end with a bbq and open house at Eureka Lodge #113\, located at 580 Water St. in Prairie du Sac\, and will be open to the public as well. There will be a silent auction and raffles of local goods and services at the Lodge following the ride.
X-ALT-DESC;FMTTYPE=text/html:Motorcycle ride hosted by the Free Runners Masonic Order and Sauk Prairie Eureka Lodge #113\, F&amp\;AM. This ride is open to the public and will end with a bbq and open house at Eureka Lodge #113\, located at 580 Water St. in Prairie du Sac\, and will be open to the public as well. There will be a silent auction and raffles of local goods and services at the Lodge following the ride.
LOCATION:Ride begins at Sauk Prairie Harley-Davidson 836 Phillips Blvd. Sauk City\, WI and ends at Eureka Lodge #113\, F&AM 580 Water St. Prairie du Sac\, WI
UID:e.1184.8440
SEQUENCE:3
DTSTAMP:20260425T192833Z
URL:http://members.saukprairie.com/events/details/hirams-hustle-ride-09-17-2016-8440
END:VEVENT

END:VCALENDAR
