BEGIN:VCALENDAR
VERSION:2.0
PRODID:-//ChamberMaster//Event Calendar 2.0//EN
METHOD:PUBLISH
X-PUBLISHED-TTL:P3D
REFRESH-INTERVAL:P3D
CALSCALE:GREGORIAN
BEGIN:VEVENT
DTSTART:20180912T000000Z
DTEND:20180912T010000Z
X-MICROSOFT-CDO-ALLDAYEVENT:FALSE
SUMMARY:History of Badger Army Ammunition
DESCRIPTION:An evening program hosted by The West Point Historical Society\n\n\n\nHistory of Badger Army Ammunition\n\nPresenter: Verlyn Mueller\, Archivist\, Badger History Group\, Inc.\n\n\n\nFree and open to the public!
X-ALT-DESC;FMTTYPE=text/html:An evening program hosted by The West Point Historical Society<br />\n<br />\n<span style="font-size:14px\;"><strong>History of Badger Army Ammunition</strong></span><br />\nPresenter: Verlyn Mueller\, Archivist\, Badger History Group\, Inc.<br />\n<br />\nFree and open to the public!
LOCATION:West Point Town Hall N2214 Rausch Road Lodi\, WI 53555 Highway 188 and Rausch Road
UID:e.1184.20746
SEQUENCE:3
DTSTAMP:20260424T051548Z
URL:http://members.saukprairie.com/events/details/history-of-badger-army-ammunition-20746
END:VEVENT

END:VCALENDAR
