BEGIN:VCALENDAR
VERSION:2.0
PRODID:-//ChamberMaster//Event Calendar 2.0//EN
METHOD:PUBLISH
X-PUBLISHED-TTL:P3D
REFRESH-INTERVAL:P3D
CALSCALE:GREGORIAN
BEGIN:VEVENT
DTSTART;VALUE=DATE:20160616
DTEND;VALUE=DATE:20160617
TRANSP:TRANSPARENT
X-MICROSOFT-CDO-ALLDAYEVENT:TRUE
SUMMARY:Hit the Gym to End Alzheimer's
DESCRIPTION:Eat\, Drink\, Have Fun\, and End Alzheimers. \n\n\n\nThere will be a 50/50 raffle as well as informational flyers regarding Alzheimers. \n\n\n\n10% of all sales made at The Gym from 5pm on will go towards the Alzheimer's Association. \n\n\n\nEvery 66 seconds\, someone in the United States develops the disease. To learn more about Alzheimer's disease and how it effects those around you\, follow the link here http://www.alz.org/facts/ \n\n\n\nIf you're interested in making a donation to the team organizing this event\, then follow the link here http://act.alz.org/goto/americandata
X-ALT-DESC;FMTTYPE=text/html:<span style="color:rgb(75\, 79\, 86)\; font-family:helvetica\,arial\,sans-serif\; font-size:14px">Eat\, Drink\, Have Fun\, and End Alzheimers.&nbsp\;</span><br />\n<br />\n<span style="color:rgb(75\, 79\, 86)\; font-family:helvetica\,arial\,sans-serif\; font-size:14px">There will be a 50/50 raffle as well as informational flyers regarding Alzheimers.&nbsp\;</span><br />\n<br />\n<span style="color:rgb(75\, 79\, 86)\; font-family:helvetica\,arial\,sans-serif\; font-size:14px">10% of all sales made at The Gym from 5pm on will go towards the Alzheimer&#39\;s Association.&nbsp\;</span><br />\n<br />\n<span style="color:rgb(75\, 79\, 86)\; font-family:helvetica\,arial\,sans-serif\; font-size:14px">Every 66 seconds\, someone in the United States develops the disease. To learn more about Alzheimer&#39\;s disease and how it effects those around you\, follow the link here<a href="http://Eat\, Drink\, Have Fun\, and End Alzheimers.   There will be a 50/50 raffle as well as informational flyers regarding Alzheimers.   10% of all sales made at The Gym from 5pm on will go towards the Alzheimer's Association.   Every 66 seconds\, someone in the United States develops the disease. To learn more about Alzheimer's disease and how it effects those around you\, follow the link here http://www.alz.org/facts/   If you're interested in making a donation to the team organizing this event\, then follow the link here http://act.alz.org/goto/americandata">&nbsp\;</a></span><a href="http://www.alz.org/facts/" rel="nofollow nofollow" style="color: rgb(54\, 88\, 153)\; cursor: pointer\; text-decoration: none\; font-family: helvetica\, arial\, sans-serif\; font-size: 14px\; line-height: 18.76px\;" target="_blank">http://www.alz.org/facts/</a><a href="http://Eat\, Drink\, Have Fun\, and End Alzheimers.   There will be a 50/50 raffle as well as informational flyers regarding Alzheimers.   10% of all sales made at The Gym from 5pm on will go towards the Alzheimer's Association.   Every 66 seconds\, someone in the United States develops the disease. To learn more about Alzheimer's disease and how it effects those around you\, follow the link here http://www.alz.org/facts/   If you're interested in making a donation to the team organizing this event\, then follow the link here http://act.alz.org/goto/americandata"><span style="color:rgb(75\, 79\, 86)\; font-family:helvetica\,arial\,sans-serif\; font-size:14px">&nbsp\;</span></a><br />\n<br />\n<span style="color:rgb(75\, 79\, 86)\; font-family:helvetica\,arial\,sans-serif\; font-size:14px">If you&#39\;re interested in making a donation to the team organizing this event\, then follow the link here&nbsp\;</span><a href="http://act.alz.org/goto/americandata" rel="nofollow nofollow" style="color: rgb(54\, 88\, 153)\; cursor: pointer\; text-decoration: none\; font-family: helvetica\, arial\, sans-serif\; font-size: 14px\; line-height: 18.76px\;" target="_blank"><span style="font-family:inherit">http://act.alz.org/goto/</span>americandata</a>
LOCATION:The Gym Bar and Grill 833 Water St\, Sauk City\, Wisconsin 53583
UID:e.1184.8542
SEQUENCE:3
DTSTAMP:20260426T020933Z
URL:http://members.saukprairie.com/events/details/hit-the-gym-to-end-alzheimer-s-06-16-2016-8542
END:VEVENT

END:VCALENDAR
