BEGIN:VCALENDAR
VERSION:2.0
PRODID:-//ChamberMaster//Event Calendar 2.0//EN
METHOD:PUBLISH
X-PUBLISHED-TTL:P3D
REFRESH-INTERVAL:P3D
CALSCALE:GREGORIAN
BEGIN:VEVENT
DTSTART:20171104T130000Z
DTEND:20171104T190000Z
X-MICROSOFT-CDO-ALLDAYEVENT:FALSE
SUMMARY:Holiday Bazaar
DESCRIPTION:Featuring:\n\nBeautifully handcrafted gift items - Gift Baskets - Delicious bakery iteams including lefsa & fruitcakes\n\n\n\nEnjoy coffee\, homemade cinnamon rolls\, soup and apple pie at our Coffee Time Cafe.\n\n\n\nBazaar proceed will be shared with selected local community charities.
X-ALT-DESC;FMTTYPE=text/html:Featuring:<br />\nBeautifully handcrafted gift items - Gift Baskets - Delicious bakery iteams including lefsa &amp\; fruitcakes<br />\n<br />\nEnjoy coffee\, homemade cinnamon rolls\, soup and apple pie at our Coffee Time Cafe.<br />\n<br />\nBazaar proceed will be shared with selected local community charities.
LOCATION:Concordia UMC 585 5th Street Prairied du Sac
UID:e.1184.13988
SEQUENCE:3
DTSTAMP:20260424T205255Z
URL:http://members.saukprairie.com/events/details/holiday-bazaar-13988
END:VEVENT

END:VCALENDAR
