BEGIN:VCALENDAR
VERSION:2.0
PRODID:-//ChamberMaster//Event Calendar 2.0//EN
METHOD:PUBLISH
X-PUBLISHED-TTL:P3D
REFRESH-INTERVAL:P3D
CALSCALE:GREGORIAN
BEGIN:VEVENT
DTSTART;VALUE=DATE:20211213
DTEND;VALUE=DATE:20211221
TRANSP:TRANSPARENT
X-MICROSOFT-CDO-ALLDAYEVENT:TRUE
SUMMARY:Holiday Business Display Contest
DESCRIPTION:Holiday Business Display Contest\n\n\n\nEntries should show use of theme\, as in Willy Wonka\, Candyland\, Charlie and the Chocolate Factory\, Golden Tickets\, Gumdrop Houses\, etc.  \n\n\n\nParticipation is open to ALL Businesses within the Sauk Prairie Area. Judging will be based on the most likes on the Chamber's Facebook Page (30%) & a committee will be judging on the following criteria (70%):\n\n\n\n  Quality & Craftsmanship   Design   Creativity\n\n  Three prizes will be awarded:\n\n  1st Prize: 1 Month on the digital Sign ($500 Value)\n\n  2nd Prize: 2 Weeks on the digital sign ($260 Value)\n\n  3rd Prize: 1 week on the digital sign ($130 Value)\n\n  Non Chamber Members that win will receive up to a free\n\nyear membership
X-ALT-DESC;FMTTYPE=text/html:<strong>Holiday Business Display Contest</strong><br />\n<br />\nEntries should show use of theme\, as in Willy Wonka\, Candyland\, Charlie and the Chocolate Factory\, Golden Tickets\, Gumdrop Houses\, etc.&nbsp\;&nbsp\;<br />\n<br />\nParticipation is open to ALL Businesses within the Sauk Prairie Area. Judging will be based on the most likes on the Chamber&rsquo\;s Facebook Page (30%) &amp\; a committee will be judging on the following criteria (70%):<br />\n<br />\n&#9642\; Quality &amp\; Craftsmanship &#9642\; Design &#9642\; Creativity<br />\n&bull\; Three prizes will be awarded:<br />\n&#9642\; 1st Prize: 1 Month on the digital Sign ($500 Value)<br />\n&#9642\; 2nd Prize: 2 Weeks on the digital sign ($260 Value)<br />\n&#9642\; 3rd Prize: 1 week on the digital sign ($130 Value)<br />\n&#9642\; Non Chamber Members that win will receive up to a free<br />\nyear membership
LOCATION:
UID:e.1184.26895
SEQUENCE:3
DTSTAMP:20260421T202842Z
URL:http://members.saukprairie.com/events/details/holiday-business-display-contest-26895
END:VEVENT

END:VCALENDAR
