BEGIN:VCALENDAR
VERSION:2.0
PRODID:-//ChamberMaster//Event Calendar 2.0//EN
METHOD:PUBLISH
X-PUBLISHED-TTL:P3D
REFRESH-INTERVAL:P3D
CALSCALE:GREGORIAN
BEGIN:VEVENT
DTSTART:20231115T000000Z
DTEND:20231115T013000Z
X-MICROSOFT-CDO-ALLDAYEVENT:FALSE
SUMMARY:Holiday Card Buffet
DESCRIPTION:Get a jump on your holiday cards with Jamie Statz-Paynter. All the supplies to create up to four cards are included. Registration is required. Call or see a librarian to sign-up today!
X-ALT-DESC;FMTTYPE=text/html:Get a jump on your holiday cards with Jamie Statz-Paynter. All the supplies to create up to four cards are included. Registration is required. Call or see a librarian to sign-up today!
LOCATION:615 Phillips Blvd. Sauk City\, WI 53583
UID:e.1184.31183
SEQUENCE:3
DTSTAMP:20260420T044737Z
URL:http://members.saukprairie.com/events/details/holiday-card-buffet-11-14-2023-31183
END:VEVENT

END:VCALENDAR
