BEGIN:VCALENDAR
VERSION:2.0
PRODID:-//ChamberMaster//Event Calendar 2.0//EN
METHOD:PUBLISH
X-PUBLISHED-TTL:P3D
REFRESH-INTERVAL:P3D
CALSCALE:GREGORIAN
BEGIN:VEVENT
DTSTART:20221109T000000Z
DTEND:20221109T013000Z
X-MICROSOFT-CDO-ALLDAYEVENT:FALSE
SUMMARY:Holiday Card Buffet
DESCRIPTION:Get a jump on your holiday cards with Jamie Statz-Paynter. All the supplies and materials to make up to four cards are included.\n\n\n\nRegistration is required and space is limited. Call 643-8346 or see a librarian to get signed up today.
X-ALT-DESC;FMTTYPE=text/html:Get a jump on your holiday cards with Jamie Statz-Paynter. All the supplies and materials to make up to four cards are included.<br />\n<br />\nRegistration is required and space is limited. Call 643-8346 or see a librarian to get signed up today.
LOCATION:615 Phillips Blvd Sauk City\, WI 53583
UID:e.1184.28753
SEQUENCE:3
DTSTAMP:20260421T020404Z
URL:http://members.saukprairie.com/events/details/holiday-card-buffet-28753
END:VEVENT

END:VCALENDAR
