BEGIN:VCALENDAR
VERSION:2.0
PRODID:-//ChamberMaster//Event Calendar 2.0//EN
METHOD:PUBLISH
X-PUBLISHED-TTL:P3D
REFRESH-INTERVAL:P3D
CALSCALE:GREGORIAN
BEGIN:VEVENT
DTSTART:20211111T000000Z
DTEND:20211111T013000Z
X-MICROSOFT-CDO-ALLDAYEVENT:FALSE
SUMMARY:Holiday Card Craft
DESCRIPTION:Come to the library for a delightfully crafty evening with Jamie Stantz-Paynter to make custom holiday cards. Space is limited and registration is required. Please call the library to sign up. Masks are required for this program.
X-ALT-DESC;FMTTYPE=text/html:Come to the library for a delightfully crafty evening with Jamie Stantz-Paynter to make custom holiday cards. Space is limited and registration is required. Please call the library to sign up. Masks are required for this program.
LOCATION:615 Phillips Blvd\, Sauk City WI
UID:e.1184.26914
SEQUENCE:3
DTSTAMP:20260421T202753Z
URL:http://members.saukprairie.com/events/details/holiday-card-craft-26914
END:VEVENT

END:VCALENDAR
