BEGIN:VCALENDAR
VERSION:2.0
PRODID:-//ChamberMaster//Event Calendar 2.0//EN
METHOD:PUBLISH
X-PUBLISHED-TTL:P3D
REFRESH-INTERVAL:P3D
CALSCALE:GREGORIAN
BEGIN:VEVENT
DTSTART:20161216T003000Z
DTEND:20161216T013000Z
X-MICROSOFT-CDO-ALLDAYEVENT:FALSE
SUMMARY:Holiday Cookie Exchange
DESCRIPTION:Come with a tin of cookies and leave with a whole new set during our fantastic Cookie Exchange. This event is just in time for the holiday season so come and stock up on treats for you and yours.
X-ALT-DESC;FMTTYPE=text/html:<span style="color:rgb(68\, 68\, 68)\; font-family:helvetica neue\,arial\,helvetica\,nimbus sans l\,sans-serif\; font-size:12.8px">Come with a tin of cookies and leave with a whole new set during our fantastic Cookie Exchange. This event is just in time for the holiday season so come and stock up on treats for you and yours.</span>
LOCATION:Sauk City Public Library 515 Water Street Sauk City\, WI 53583
UID:e.1184.9474
SEQUENCE:3
DTSTAMP:20260425T141823Z
URL:http://members.saukprairie.com/events/details/holiday-cookie-exchange-9474
END:VEVENT

END:VCALENDAR
