BEGIN:VCALENDAR
VERSION:2.0
PRODID:-//ChamberMaster//Event Calendar 2.0//EN
METHOD:PUBLISH
X-PUBLISHED-TTL:P3D
REFRESH-INTERVAL:P3D
CALSCALE:GREGORIAN
BEGIN:VEVENT
DTSTART:20181201T230000Z
DTEND:20181202T010000Z
X-MICROSOFT-CDO-ALLDAYEVENT:FALSE
SUMMARY:Holiday Light Parade & Fireworks Extravaganza 2018
DESCRIPTION:Come join us for a great Holiday Event! \n\n\n\nNEW: At 5:00pm at Graceway Church the pre-show will include performances by Center Stage Dance Academy\, Cripple Creek Cloggers and song by Lindsey Giese. Graceway Church will have Hot Coco!\n\nPictures with Santa will be available after the parade.\n\n\n\nNEW: At 6:00pm\, the parade starts at the corner of Hemlock & Sycamore\, continues down Sycamore to Grand\, turning onto 9th to end at 9th & Oak.\n\n\n\nNEW: Right after the parade\, FIREWORKS will be directly behind the High School. \n\n\n\nBe in the parade and win CASH PRIZES! \n\n\n\n1st Prize Business: $500\n\n2nd Prize Business: $250\n\n3rd Prize Business: $100\n\n\n\n1st Prize Youth Group: $500\n\n2nd Prize Youth Group: $250\n\n3rd Prize Youth Group: $100\n\n\n\nSponsor Forms & Registration
X-ALT-DESC;FMTTYPE=text/html:Come join us for a great Holiday Event!&nbsp\;<br />\n<br />\n<span style="font-size: 14px\;"><strong>NEW:&nbsp\;</strong></span>At 5:00pm at Graceway Church the pre-show will include performances by Center Stage Dance Academy\, Cripple Creek Cloggers&nbsp\;and song by Lindsey Giese. Graceway Church will have Hot Coco!<br />\nPictures with Santa will be available&nbsp\;after the parade.<br />\n<br />\n<span style="font-size:14px\;"><strong>NEW:&nbsp\;</strong></span>At 6:00pm\, the parade starts at the corner of Hemlock &amp\; Sycamore\, continues down Sycamore to Grand\, turning onto 9th to end at 9th &amp\; Oak.<br />\n<br />\n<span style="font-size: 14px\;"><strong>NEW:&nbsp\;</strong></span>Right after the parade\, FIREWORKS will be directly behind the High School.&nbsp\;<br />\n<br />\nBe in the parade and win CASH PRIZES!&nbsp\;<br />\n<br />\n1st Prize Business: $500<br />\n2nd Prize Business: $250<br />\n3rd Prize Business: $100<br />\n<br />\n1st Prize Youth Group: $500<br />\n2nd Prize Youth Group: $250<br />\n3rd Prize Youth Group: $100<br />\n<br />\n<a href="https://chambermaster.blob.core.windows.net/userfiles/UserFiles/chambers/1184/File/holidaylightparadeREGISTRATIONSPONSORFORM2018.pdf">Sponsor Forms &amp\; Registration&nbsp\;</a>
LOCATION:
UID:e.1184.14018
SEQUENCE:3
DTSTAMP:20260424T003114Z
URL:http://members.saukprairie.com/events/details/holiday-light-parade-fireworks-extravaganza-2018-14018
END:VEVENT

END:VCALENDAR
