BEGIN:VCALENDAR
VERSION:2.0
PRODID:-//ChamberMaster//Event Calendar 2.0//EN
METHOD:PUBLISH
X-PUBLISHED-TTL:P3D
REFRESH-INTERVAL:P3D
CALSCALE:GREGORIAN
BEGIN:VEVENT
DTSTART;VALUE=DATE:20171202
DTEND;VALUE=DATE:20171203
TRANSP:TRANSPARENT
X-MICROSOFT-CDO-ALLDAYEVENT:TRUE
SUMMARY:Holiday Market Adoption Fundraiser for Scott & Amber Eaker
DESCRIPTION:Holiday Market Adoption Fundraiser for Scott & Amber Eaker\n\nRiver Hills Church   1111 Sycamore Street Sauk City\, WI\n\n11am-2pm December 2nd
X-ALT-DESC;FMTTYPE=text/html:<span style="color:#1F497D\;">Holiday Market Adoption Fundraiser for Scott &amp\; Amber Eaker</span><br />\n<span style="color:#1F497D\;">River Hills Church &ndash\; 1111 Sycamore Street Sauk City\, WI</span><br />\n<span style="color:#1F497D\;">11am-2pm December 2<sup>nd</sup></span>
LOCATION:
UID:e.1184.14530
SEQUENCE:3
DTSTAMP:20260424T205529Z
URL:http://members.saukprairie.com/events/details/holiday-market-adoption-fundraiser-for-scott-amber-eaker-14530
END:VEVENT

END:VCALENDAR
