BEGIN:VCALENDAR
VERSION:2.0
PRODID:-//ChamberMaster//Event Calendar 2.0//EN
METHOD:PUBLISH
X-PUBLISHED-TTL:P3D
REFRESH-INTERVAL:P3D
CALSCALE:GREGORIAN
BEGIN:VEVENT
DTSTART:20181215T220000Z
DTEND:20181215T233000Z
X-MICROSOFT-CDO-ALLDAYEVENT:FALSE
SUMMARY:Holiday Mine Sing
DESCRIPTION:Celebrate with us above ground and below with a beautiful evening of music! A traditional Christmas concert around the 14-foot holiday tree by the 50-member Platteville Chorale will be followed by the all-men's Chough Singers performing Cornish mining songs a cappella underground in the Bevans Mine ($10/adult\, $5/child).
X-ALT-DESC;FMTTYPE=text/html:<span style="color: rgb(29\, 33\, 41)\; font-family: Helvetica\, Arial\, sans-serif\; font-size: 14px\;">Celebrate with us above ground and below with a beautiful evening of music! A traditional Christmas concert around the 14-foot holiday tree by the 50-member Platteville Chorale will be followed by the all-men&#39\;s Chough Singers performing Cornish mining songs a cappella underground in the Bevans Mine ($10/adult\, $5/child).</span>
LOCATION:The Mining & Rollo Jamison Museum 405 E Main Street Platteville\, WI 53818
UID:e.1184.21597
SEQUENCE:3
DTSTAMP:20260424T003109Z
URL:http://members.saukprairie.com/events/details/holiday-mine-sing-21597
END:VEVENT

END:VCALENDAR
