BEGIN:VCALENDAR
VERSION:2.0
PRODID:-//ChamberMaster//Event Calendar 2.0//EN
METHOD:PUBLISH
X-PUBLISHED-TTL:P3D
REFRESH-INTERVAL:P3D
CALSCALE:GREGORIAN
BEGIN:VEVENT
DTSTART:20161214T170000Z
DTEND:20161214T190000Z
X-MICROSOFT-CDO-ALLDAYEVENT:FALSE
SUMMARY:HOLIDAY OPEN HOUSE
DESCRIPTION:You're Invited!\n\nHOLIDAY OPEN HOUSE\n\nfor local area businesses!\n\n\n\nWednesday\, Dec. 14\, 2016 | 11 a.m. - 1 p.m.\n\n\n\nHosted at Kollath CPA\n\n421 Water Street\, Suite 111 | Prairie du Sac\n\n\n\nStop in and say hello! We'll have plenty of refreshments and a CHANCE TO WIN a holiday gift basket full of great gifts from local shops right here in our Prairie du Sac business neighborhood!\n\n\n\nEveryone is welcome\, and we're excited to offer the opportunity to get to know the amazing variety of businesses here in our neighborhood!\n\n\n\nQUESTIONS? Contact Jenny Pickhard at 608-644-0206 or jpickhard@kollathcpa.com
X-ALT-DESC;FMTTYPE=text/html:You&rsquo\;re Invited!<br />\nHOLIDAY OPEN HOUSE<br />\nfor local area businesses!<br />\n<br />\nWednesday\, Dec. 14\, 2016 | 11 a.m. - 1 p.m.<br />\n<br />\nHosted at&nbsp\;Kollath&nbsp\;CPA<br />\n421 Water Street\, Suite 111 | Prairie du Sac<br />\n<br />\nStop in and say hello! We&rsquo\;ll have plenty of refreshments and a <strong>CHANCE TO WIN</strong> a holiday gift basket full of great gifts from local shops right here in our Prairie du Sac business neighborhood!<br />\n<br />\nEveryone is welcome\, and we&rsquo\;re excited to offer the opportunity to get to know the amazing variety of businesses here in our neighborhood!<br />\n<br />\n<strong>QUESTIONS?</strong> Contact Jenny Pickhard at 608-644-0206 or jpickhard@kollathcpa.com
LOCATION:
UID:e.1184.9486
SEQUENCE:3
DTSTAMP:20260425T141938Z
URL:http://members.saukprairie.com/events/details/holiday-open-house-9486
END:VEVENT

END:VCALENDAR
