BEGIN:VCALENDAR
VERSION:2.0
PRODID:-//ChamberMaster//Event Calendar 2.0//EN
METHOD:PUBLISH
X-PUBLISHED-TTL:P3D
REFRESH-INTERVAL:P3D
CALSCALE:GREGORIAN
BEGIN:VEVENT
DTSTART:20211126T150000Z
DTEND:20211126T230000Z
X-MICROSOFT-CDO-ALLDAYEVENT:FALSE
SUMMARY:Holiday Open House - Celebrating 20 Years in Business at Cameo!
DESCRIPTION:Kick-off to the Annual 15% off storewide! Other great discounts on various items. Come celebrate with the Cameo Antique team on being in business for 20 Years!
X-ALT-DESC;FMTTYPE=text/html:Kick-off to the Annual 15% off storewide! Other great discounts on various items. Come celebrate with the Cameo Antique team on being in business for 20 Years!
LOCATION:Cameo Antique Mall 827 Water Street Sauk City\, WI 53583
UID:e.1184.26929
SEQUENCE:3
DTSTAMP:20260421T203157Z
URL:http://members.saukprairie.com/events/details/holiday-open-house-celebrating-20-years-in-business-at-cameo-26929
END:VEVENT

END:VCALENDAR
