BEGIN:VCALENDAR
VERSION:2.0
PRODID:-//ChamberMaster//Event Calendar 2.0//EN
METHOD:PUBLISH
X-PUBLISHED-TTL:P3D
REFRESH-INTERVAL:P3D
CALSCALE:GREGORIAN
BEGIN:VEVENT
DTSTART:20161123T000000Z
DTEND:20161123T010000Z
X-MICROSOFT-CDO-ALLDAYEVENT:FALSE
SUMMARY:Holiday Remembrance Program
DESCRIPTION:A special gathering presented by Agrace's spiritual & grief counselors can help you remember and honor those who have died. All are invited to attend\,\n\nregardless of whether their loved one who died was served by Agrace.\n\n\n\nCelebrate the memory of your loved ones.\n\n\n\nGain strength and comfort from others who understand.\n\n\n\nLearn new ways to cope with grief during the holiday season.\n\n \n\nMadison\n\nTuesday\, November 22\n\n6 p.m.   7 p.m.\n\nAgrace Hospice & Palliative Care\n\n5395 E. Cheryl Parkway\n\nRSVP by November 16\n\n\n\nA social gathering with light refreshments will follow each program.\n\n\n\nRSVP to Jody at (608) 327-7118\n\nwith the number of people attending.
X-ALT-DESC;FMTTYPE=text/html:A special gathering presented by Agrace&rsquo\;s spiritual &amp\; grief counselors can help&nbsp\;you remember and honor those who have died. All are invited to attend\,<br />\nregardless of whether their loved one who died was served by Agrace.<br />\n<br />\nCelebrate the memory&nbsp\;of your loved ones.<br />\n<br />\nGain strength and&nbsp\;comfort from others&nbsp\;who understand.<br />\n<br />\nLearn new ways to&nbsp\;cope with grief during&nbsp\;the holiday season.<br />\n&#8203\;<br />\nMadison<br />\nTuesday\, November 22<br />\n6 p.m. &ndash\; 7 p.m.<br />\nAgrace Hospice &amp\; Palliative Care<br />\n5395 E. Cheryl Parkway<br />\nRSVP by November 16<br />\n<br />\nA social gathering with light refreshments&nbsp\;will follow each program.<br />\n<br />\nRSVP to Jody at (608) 327-7118<br />\nwith the number of people attending.
LOCATION:
UID:e.1184.9441
SEQUENCE:3
DTSTAMP:20260425T160008Z
URL:http://members.saukprairie.com/events/details/holiday-remembrance-program-9441
END:VEVENT

END:VCALENDAR
