BEGIN:VCALENDAR
VERSION:2.0
PRODID:-//ChamberMaster//Event Calendar 2.0//EN
METHOD:PUBLISH
X-PUBLISHED-TTL:P3D
REFRESH-INTERVAL:P3D
CALSCALE:GREGORIAN
BEGIN:VEVENT
DTSTART;VALUE=DATE:20210703
DTEND;VALUE=DATE:20210704
TRANSP:TRANSPARENT
X-MICROSOFT-CDO-ALLDAYEVENT:TRUE
SUMMARY:Holla In The Vines
DESCRIPTION:Gin Mill Hollow and The Vines Presents Holla in the Vines.\n\n\n\nJune 5: Pine Travelers\n\nJuly 3: Miles Over Mountains & Sunshine Daydrink\n\nAugust 7: Austin Stirling\n\nSeptember 4: Lower 5th & Chicken Bacon\n\nSeptember 5: High and Rising & Craig Baumann Trio\n\nOctober 2: Wrenclaw\n\n\n\nSeason Pass - $99\n\n\n\nInformation and tickets at ginmillhollow.com/holla\n\n \nPLEASE BE PREPARED\n\nAll events will take place rain or shine.\n\nBYO-EVERYTHING\n\nBring lawn chairs\, blankets\, umbrellas\, etc. if desired. COVID restrictions prohibit sale of food/beverages so plan ahead.\n\nBRING YOUR MASK\n\nPractice social distancing whenever possible\, and be respectful of others.\n\nCAMPING IS INCLUDED\n\nYour ticket price covers camping\, but you must reserve your spot.\n\nTIMES\n\nGates will open at 12:00p (noon) on event dates. Music will begin approximately 4pm each day with Sep 5 likely to start earlier in the afternoon.\n\nAMENITITES\n\nThe Vines has fully-functional bathrooms available as well as potable water.
X-ALT-DESC;FMTTYPE=text/html:Gin Mill Hollow and The Vines Presents Holla in the Vines.<br />\n<br />\nJune 5: Pine Travelers<br />\nJuly 3: Miles Over Mountains &amp\; Sunshine Daydrink<br />\nAugust 7: Austin Stirling<br />\nSeptember 4: Lower 5th &amp\; Chicken Bacon<br />\nSeptember 5: High and Rising &amp\; Craig Baumann Trio<br />\nOctober 2: Wrenclaw<br />\n<br />\nSeason Pass - $99<br />\n<br />\nInformation and tickets at <a href="http://www.ginmillhollow.com/holla">ginmillhollow.com/holla</a><br />\n&nbsp\;\n<p style="box-sizing: inherit\; margin: auto 0px 20px\; padding: 0px\; border: 0px\; font-variant-numeric: inherit\; font-variant-east-asian: inherit\; font-stretch: inherit\; line-height: inherit\; font-family: proxima-nova\, tahoma\, sans-serif\; font-size: 16px\; vertical-align: baseline\;"><span style="box-sizing: inherit\; margin: 0px\; padding: 0px\; border: 0px\; font-style: inherit\; font-variant: inherit\; font-weight: 700\; font-stretch: inherit\; line-height: inherit\; font-family: inherit\; vertical-align: baseline\;">PLEASE BE PREPARED</span><br style="box-sizing: inherit\;" />\n<span class="gray" style="box-sizing: inherit\; margin: 0px\; padding: 0px\; border: 0px\; font-style: inherit\; font-variant: inherit\; font-weight: inherit\; font-stretch: inherit\; line-height: inherit\; font-family: inherit\; vertical-align: baseline\; color: rgb(153\, 153\, 153)\;">All events will take place rain or shine.</span></p>\n\n<p style="box-sizing: inherit\; margin: auto 0px 20px\; padding: 0px\; border: 0px\; font-variant-numeric: inherit\; font-variant-east-asian: inherit\; font-stretch: inherit\; line-height: inherit\; font-family: proxima-nova\, tahoma\, sans-serif\; font-size: 16px\; vertical-align: baseline\;"><span style="box-sizing: inherit\; margin: 0px\; padding: 0px\; border: 0px\; font-style: inherit\; font-variant: inherit\; font-weight: 700\; font-stretch: inherit\; line-height: inherit\; font-family: inherit\; vertical-align: baseline\;">BYO-EVERYTHING</span><br style="box-sizing: inherit\;" />\n<span class="gray" style="box-sizing: inherit\; margin: 0px\; padding: 0px\; border: 0px\; font-style: inherit\; font-variant: inherit\; font-weight: inherit\; font-stretch: inherit\; line-height: inherit\; font-family: inherit\; vertical-align: baseline\; color: rgb(153\, 153\, 153)\;">Bring lawn chairs\, blankets\, umbrellas\, etc. if desired. COVID restrictions prohibit sale of food/beverages so plan ahead.</span></p>\n\n<p style="box-sizing: inherit\; margin: auto 0px 20px\; padding: 0px\; border: 0px\; font-variant-numeric: inherit\; font-variant-east-asian: inherit\; font-stretch: inherit\; line-height: inherit\; font-family: proxima-nova\, tahoma\, sans-serif\; font-size: 16px\; vertical-align: baseline\;"><span style="box-sizing: inherit\; margin: 0px\; padding: 0px\; border: 0px\; font-style: inherit\; font-variant: inherit\; font-weight: 700\; font-stretch: inherit\; line-height: inherit\; font-family: inherit\; vertical-align: baseline\;">BRING YOUR MASK</span><br style="box-sizing: inherit\;" />\n<span class="gray" style="box-sizing: inherit\; margin: 0px\; padding: 0px\; border: 0px\; font-style: inherit\; font-variant: inherit\; font-weight: inherit\; font-stretch: inherit\; line-height: inherit\; font-family: inherit\; vertical-align: baseline\; color: rgb(153\, 153\, 153)\;">Practice social distancing whenever possible\, and be respectful of others.</span></p>\n\n<p style="box-sizing: inherit\; margin: auto 0px 20px\; padding: 0px\; border: 0px\; font-variant-numeric: inherit\; font-variant-east-asian: inherit\; font-stretch: inherit\; line-height: inherit\; font-family: proxima-nova\, tahoma\, sans-serif\; font-size: 16px\; vertical-align: baseline\;"><span style="box-sizing: inherit\; margin: 0px\; padding: 0px\; border: 0px\; font-style: inherit\; font-variant: inherit\; font-weight: 700\; font-stretch: inherit\; line-height: inherit\; font-family: inherit\; vertical-align: baseline\;">CAMPING IS INCLUDED</span><br style="box-sizing: inherit\;" />\n<span class="gray" style="box-sizing: inherit\; margin: 0px\; padding: 0px\; border: 0px\; font-style: inherit\; font-variant: inherit\; font-weight: inherit\; font-stretch: inherit\; line-height: inherit\; font-family: inherit\; vertical-align: baseline\; color: rgb(153\, 153\, 153)\;">Your ticket price covers camping\, but you must reserve your spot.</span></p>\n\n<p style="box-sizing: inherit\; margin: auto 0px 20px\; padding: 0px\; border: 0px\; font-variant-numeric: inherit\; font-variant-east-asian: inherit\; font-stretch: inherit\; line-height: inherit\; font-family: proxima-nova\, tahoma\, sans-serif\; font-size: 16px\; vertical-align: baseline\;"><span style="box-sizing: inherit\; margin: 0px\; padding: 0px\; border: 0px\; font-style: inherit\; font-variant: inherit\; font-weight: 700\; font-stretch: inherit\; line-height: inherit\; font-family: inherit\; vertical-align: baseline\;">TIMES</span><br style="box-sizing: inherit\;" />\n<span class="gray" style="box-sizing: inherit\; margin: 0px\; padding: 0px\; border: 0px\; font-style: inherit\; font-variant: inherit\; font-weight: inherit\; font-stretch: inherit\; line-height: inherit\; font-family: inherit\; vertical-align: baseline\; color: rgb(153\, 153\, 153)\;">Gates will open at 12:00p (noon) on event dates. Music will begin approximately 4pm each day with Sep 5 likely to start earlier in the afternoon.</span></p>\n\n<p style="box-sizing: inherit\; margin: auto 0px 20px\; padding: 0px\; border: 0px\; font-variant-numeric: inherit\; font-variant-east-asian: inherit\; font-stretch: inherit\; line-height: inherit\; font-family: proxima-nova\, tahoma\, sans-serif\; font-size: 16px\; vertical-align: baseline\;"><span style="box-sizing: inherit\; margin: 0px\; padding: 0px\; border: 0px\; font-style: inherit\; font-variant: inherit\; font-weight: 700\; font-stretch: inherit\; line-height: inherit\; font-family: inherit\; vertical-align: baseline\;">AMENITITES</span><br style="box-sizing: inherit\;" />\n<span class="gray" style="box-sizing: inherit\; margin: 0px\; padding: 0px\; border: 0px\; font-style: inherit\; font-variant: inherit\; font-weight: inherit\; font-stretch: inherit\; line-height: inherit\; font-family: inherit\; vertical-align: baseline\; color: rgb(153\, 153\, 153)\;">The Vines has fully-functional bathrooms available as well as potable water.</span></p>\n
LOCATION:The Vines W13002 Schoepp Road\, Sauk City
UID:e.1184.26613
SEQUENCE:3
DTSTAMP:20260422T021155Z
URL:http://members.saukprairie.com/events/details/holla-in-the-vines-07-03-2021-26613
END:VEVENT

END:VCALENDAR
